Workbook
Name \p: #REF!
Name _?from_RON_amount_1.00: 'FX Rate'!$D$20:$F$30
Name _alw1: #REF!
Name _BUD96: [1]ST!#REF!
Name _BUD96: [1]ST!#REF!
Name _BUD96: [1]ST!#REF!
Name _BUD96: [1]ST!#REF!
Name _BUD96: [1]ST!#REF!
Name _BUD97: [1]ST!#REF!
Name _BUD97: [1]ST!#REF!
Name _BUD97: [1]ST!#REF!
Name _BUD97: [1]ST!#REF!
Name _BUD97: [1]ST!#REF!
Name _BUD98: [1]ST!#REF!
Name _BUD98: [1]ST!#REF!
Name _BUD98: [1]ST!#REF!
Name _BUD98: [1]ST!#REF!
Name _BUD98: [1]ST!#REF!
Name _BUD9901: [1]ST!#REF!
Name _BUD9901: [1]ST!#REF!
Name _BUD9901: [1]ST!#REF!
Name _BUD9901: [1]ST!#REF!
Name _BUD9901: [1]ST!#REF!
Name _SVC1: '[2]3 credite'!$B$104
Name _vbk1: #REF!
Name a: #REF!
Name access_router_decline: '[3]IPT inputs'!#REF!
Name access_router_decline: '[3]IPT inputs'!#REF!
Name access_router_decline: '[3]IPT inputs'!#REF!
Name access_router_decline: '[3]IPT inputs'!#REF!
Name access_router_decline: '[3]IPT inputs'!#REF!
Name access_router_decline2: '[3]IPV inputs'!#REF!
Name access_router_decline2: '[3]IPV inputs'!#REF!
Name access_router_decline2: '[3]IPV inputs'!#REF!
Name access_router_decline2: '[3]IPV inputs'!#REF!
Name access_router_decline2: '[3]IPV inputs'!#REF!
Name ACTUAL_08_MTH: #REF!
Name ACTUAL_08_YTD: #REF!
Name ACTUAL_09_MTH: #REF!
Name ACTUAL_09_YTD: #REF!
Name alw: #REF!
Name alwiii: #REF!
Name alwrut: 'Dinamics Ruthenus'!$B$7
Name Amounts9707: [4]TB!$AG$4:$AG$2000
Name Amounts9708: [4]TB!$AL$4:$AL$2000
Name Amounts9709: [4]TB!$AQ$4:$AQ$2000
Name Amounts9710: [4]TB!$AV$4:$AV$2000
Name Amounts9711: [4]TB!$BA$4:$BA$2000
Name Amounts9712: [4]TB!$BF$4:$BF$2000
Name Apr_Bal: [1]ST!#REF!
Name Apr_Bal: [1]ST!#REF!
Name Apr_Bal: [1]ST!#REF!
Name Apr_Bal: [1]ST!#REF!
Name Apr_Bal: [1]ST!#REF!
Name AR_2: [5]Total_3rd_party!$A$1:$H$65536
Name ASD: #REF!
Name Aug_Bal: [1]ST!#REF!
Name Aug_Bal: [1]ST!#REF!
Name Aug_Bal: [1]ST!#REF!
Name Aug_Bal: [1]ST!#REF!

Sheet FX Rate
D4: X-RATE Automatic update on web
I5: Ruthenus
D6: FX Rate | E6: Data | F6: Range
D7: USD / RON | E7: =TODAY() -> 44148 | F7: =F21 -> 4.118144
D9: FX Rate | E9: Data | F9: Range
D10: EURO / RON | E10: =TODAY() -> 44148 | F10: =F22 -> 4.870071
D12: FX Rate | E12: Data | F12: Range
D13: EUR / USD | E13: =TODAY() -> 44148 | F13: =F10/F7 -> 1.1825888
D15: FX Rate EUR/RON | E15: =SUM('FX Rate'!$F$10) -> 4.870071
D16: FX Rate USD/RON | E16: =SUM('FX Rate'!$F$7) -> 4.118144
D17: FX Rate EUR/USD | E17: ='FX Rate'!F$13 -> 1.1825888
D20: Romanian New Leu | E20: 1.00 RON | F20: inv. 1.00 RON
D21: US Dollar | E21: 0.242828 | F21: 4.118144
D22: Euro | E22: 0.205336 | F22: 4.870071
D23: British Pound | E23: 0.184593 | F23: 5.417317
D24: Indian Rupee | E24: 18.121083 | F24: 0.055184
D25: Australian Dollar | E25: 0.335233 | F25: 2.982997
D26: Canadian Dollar | E26: 0.319312 | F26: 3.131735
D27: Singapore Dollar | E27: 0.327347 | F27: 3.054865
D28: Swiss Franc | E28: 0.221826 | F28: 4.508032
D29: Malaysian Ringgit | E29: 1.001206 | F29: 0.998795
D30: Japanese Yen | E30: 25.43151 | F30: 0.039321

Sheet Farm Overhaul
M1: TOTAL RON | N1: TOTAL EURO | O1: TOTAL USD
B2: Farm Platform | M2: =SUM(G24,G47,G66,G79,G88) -> 1918804 | N2: =SUM(I24,I47,I66,I79,I88) -> 393999.18 | O2: =SUM(K24,K47,K66,K79,K88) -> 465939.02
M3: =M2*1.19 -> 2283376.8 | N3: =N2*1.19 -> 468859.03 | O3: =O2*1.19 -> 554467.44 | P3: With TVA
B5: Nr.crt | C5: Component description | D5: U/M | E5: Quantity | F5: Unit price RON | G5: TOTAL RON | H5: Unit Price EURO | I5: TOTAL EURO | J5: Unit Price USD | K5: TOTAL USD
B6: 1 | C6: Acquisition land 4.780 m2 | D6: mp. | E6: 4780 | F6: 15 | G6: =SUM(E6*F6) -> 71700 | H6: =F6/'FX Rate'!F10 -> 3.0800372 | I6: =H6*E6 -> 14722.578 | J6: =F6/'FX Rate'!F7 -> 3.6424176 | K6: =E6*J6 -> 17410.756
B7: 2 | C7: Land Deforestation | D7: mp. | E7: 4780 | F7: 2 | G7: =SUM(E7*F7) -> 9560 | H7: =F7/'FX Rate'!F10 -> 0.41067163 | I7: =H7*E7 -> 1963.0104 | J7: =F7/'FX Rate'!F7 -> 0.48565567 | K7: =E7*J7 -> 2321.4341
B8: 3 | C8: Plowed Land | D8: mp. | E8: 4780 | F8: 1.5 | G8: =SUM(E8*F8) -> 7170 | H8: =F8/'FX Rate'!F10 -> 0.30800372 | I8: =H8*E8 -> 1472.2578 | J8: =F8/'FX Rate'!F7 -> 0.36424176 | K8: =E8*J8 -> 1741.0756
B9: 4 | C9: Fence panel 250 cm x 200 cm (260 m) | D9: pcs | E9: 260 | F9: 43 | G9: =SUM(E9*F9) -> 11180 | H9: =F9/'FX Rate'!F10 -> 8.8294401 | I9: =H9*E9 -> 2295.6544 | J9: =F9/'FX Rate'!F7 -> 10.441597 | K9: =E9*J9 -> 2714.8152
B10: 5 | C10: Fence poles 300 cm | D10: pcs | E10: 110 | F10: 30 | G10: =SUM(E10*F10) -> 3300 | H10: =F10/'FX Rate'!F10 -> 6.1600745 | I10: =H10*E10 -> 677.60819 | J10: =F10/'FX Rate'!F7 -> 7.2848351 | K10: =E10*J10 -> 801.33186
B11: 6 | C11: Fence installation | D11: panel | E11: 110 | F11: 15 | G11: =SUM(E11*F11) -> 1650 | H11: =F11/'FX Rate'!F10 -> 3.0800372 | I11: =H11*E11 -> 338.8041 | J11: =F11/'FX Rate'!F7 -> 3.6424176 | K11: =E11*J11 -> 400.66593
B12: 7 | C12: Access Auto Pedestrian Gate | D12: pcs | E12: 1 | F12: 12000 | G12: =SUM(E12*F12) -> 12000 | H12: =F12/'FX Rate'!F10 -> 2464.0298 | I12: =H12*E12 -> 2464.0298 | J12: =F12/'FX Rate'!F7 -> 2913.934 | K12: =E12*J12 -> 2913.934
B13: 8 | C13: OD Lighting 125W PC AGS HG Mercur | D13: pcs | E13: 24 | F13: 181 | G13: =SUM(E13*F13) -> 4344 | H13: =F13/'FX Rate'!F10 -> 37.165783 | I13: =H13*E13 -> 891.97878 | J13: =F13/'FX Rate'!F7 -> 43.951838 | K13: =E13*J13 -> 1054.8441
B14: 9 | C14: Lighting poles 600 cm | D14: pcs | E14: 24 | F14: 70 | G14: =SUM(E14*F14) -> 1680 | H14: =F14/'FX Rate'!F10 -> 14.373507 | I14: =H14*E14 -> 344.96417 | J14: =F14/'FX Rate'!F7 -> 16.997949 | K14: =E14*J14 -> 407.95077
B15: 10 | C15: Surveillance Cameras day night | D15: pcs | E15: 8 | F15: 2500 | G15: =SUM(E15*F15) -> 20000 | H15: =F15/'FX Rate'!F10 -> 513.33954 | I15: =H15*E15 -> 4106.7163 | J15: =F15/'FX Rate'!F7 -> 607.06959 | K15: =E15*J15 -> 4856.5567
B16: 11 | C16: Surveillance poles 600 cm | D16: pcs | E16: 8 | F16: 70 | G16: =SUM(E16*F16) -> 560 | H16: =F16/'FX Rate'!F10 -> 14.373507 | I16: =H16*E16 -> 114.98806 | J16: =F16/'FX Rate'!F7 -> 16.997949 | K16: =E16*J16 -> 135.98359
B17: 12 | C17: Surveilance DVR 32 Input | D17: pcs | E17: 1 | F17: 1600 | G17: =SUM(E17*F17) -> 1600 | H17: =F17/'FX Rate'!F10 -> 328.5373 | I17: =H17*E17 -> 328.5373 | J17: =F17/'FX Rate'!F7 -> 388.52454 | K17: =E17*J17 -> 388.52454
B18: 13 | C18: Administrativ office container auto | D18: pcs | E18: 4 | F18: 27000 | G18: =SUM(E18*F18) -> 108000 | H18: =F18/'FX Rate'!F10 -> 5544.067 | I18: =H18*E18 -> 22176.268 | J18: =F18/'FX Rate'!F7 -> 6556.3516 | K18: =E18*J18 -> 26225.406
B19: 14 | C19: Power Generator 16 KVA | D19: unit | E19: 1 | F19: 28188 | G19: =SUM(E19*F19) -> 28188 | H19: =F19/'FX Rate'!F10 -> 5788.006 | I19: =H19*E19 -> 5788.006 | J19: =F19/'FX Rate'!F7 -> 6844.8311 | K19: =E19*J19 -> 6844.8311
B20: 15 | C20: Diesel Tank | D20: unit | E20: 1 | F20: 5000 | G20: =SUM(E20*F20) -> 5000 | H20: =F20/'FX Rate'!F10 -> 1026.6791 | I20: =H20*E20 -> 1026.6791 | J20: =F20/'FX Rate'!F7 -> 1214.1392 | K20: =E20*J20 -> 1214.1392
B21: 16 | C21: Acces Way | D21: m2 | E21: 280 | F21: 100 | G21: =SUM(E21*F21) -> 28000 | H21: =F21/'FX Rate'!F10 -> 20.533582 | I21: =H21*E21 -> 5749.4028 | J21: =F21/'FX Rate'!F7 -> 24.282784 | K21: =E21*J21 -> 6799.1794
B22: 17 | C22: Dig wels 110 ml | D22: ml | E22: 110 | F22: 500 | G22: =SUM(E22*F22) -> 55000 | H22: =F22/'FX Rate'!F10 -> 102.66791 | I22: =H22*E22 -> 11293.47 | J22: =F22/'FX Rate'!F7 -> 121.41392 | K22: =E22*J22 -> 13355.531
B23: 18 | C23: Water Wells Equipped 110 ml | D23: unit | E23: 1 | F23: 50000 | G23: =SUM(E23*F23) -> 50000 | H23: =F23/'FX Rate'!F10 -> 10266.791 | I23: =H23*E23 -> 10266.791 | J23: =F23/'FX Rate'!F7 -> 12141.392 | K23: =E23*J23 -> 12141.392
C24: SUBTOTAL | F24: RON | G24: =SUM(G6:G23) -> 418932 | H24: EUR | I24: =SUM(I6:I23) -> 86021.744 | J24: USD | K24: =SUM(K6:K23) -> 101728.35
C25: SUBTOTAL with VAT | D25: 0.19 | F25: RON | G25: =G24*1.19 -> 498529.08 | H25: EUR | I25: =I24*1.19 -> 102365.88 | J25: USD | K25: =K24*1.19 -> 121056.74
B27: Reproduction & Aquaponics Unit
B29: Nr.crt | C29: Component description | D29: U/M | E29: Quantity | F29: Unit price RON | G29: TOTAL RON | H29: Unit Price EURO | I29: TOTAL EURO | J29: Unit Price USD | K29: TOTAL USD
B30: 1 | C30: Hall sandwich 10 cm isulation | D30: m2 | E30: 500 | F30: 80 | G30: =SUM(E30*F30) -> 40000 | H30: =F30/'FX Rate'!F10 -> 16.426865 | I30: =H30*E30 -> 8213.4326 | J30: =F30/'FX Rate'!F7 -> 19.426227 | K30: =E30*J30 -> 9713.1135
B31: 2 | C31: Cement floor | D31: m2 | E31: 680 | F31: 17 | G31: =SUM(E31*F31) -> 11560 | H31: =F31/'FX Rate'!F10 -> 3.4907089 | I31: =H31*E31 -> 2373.682 | J31: =F31/'FX Rate'!F7 -> 4.1280732 | K31: =E31*J31 -> 2807.0898
B32: 3 | C32: Incubatoare Weis | D32: pcs | E32: 16 | F32: 800 | G32: =SUM(E32*F32) -> 12800 | H32: =F32/'FX Rate'!F10 -> 164.26865 | I32: =H32*E32 -> 2628.2984 | J32: =F32/'FX Rate'!F7 -> 194.26227 | K32: =E32*J32 -> 3108.1963
B33: 4 | C33: Basins for fish breeding | D33: pcs | E33: 16 | F33: 2800 | G33: =SUM(E33*F33) -> 44800 | H33: =F33/'FX Rate'!F10 -> 574.94028 | I33: =H33*E33 -> 9199.0445 | J33: =F33/'FX Rate'!F7 -> 679.91794 | K33: =E33*J33 -> 10878.687
B34: 5 | C34: Recirculate Pomp | D34: pcs | E34: 16 | F34: 1200 | G34: =SUM(E34*F34) -> 19200 | H34: =F34/'FX Rate'!F10 -> 246.40298 | I34: =H34*E34 -> 3942.4477 | J34: =F34/'FX Rate'!F7 -> 291.3934 | K34: =E34*J34 -> 4662.2945
B35: 6 | C35: Filter Mechanical | D35: pcs | E35: 16 | F35: 7000 | G35: =SUM(E35*F35) -> 112000 | H35: =F35/'FX Rate'!F10 -> 1437.3507 | I35: =H35*E35 -> 22997.611 | J35: =F35/'FX Rate'!F7 -> 1699.7949 | K35: =E35*J35 -> 27196.718
B36: 7 | C36: Basin for Pregrowing + Growing | D36: pcs | E36: 21 | F36: 5000 | G36: =SUM(E36*F36) -> 105000 | H36: =F36/'FX Rate'!F10 -> 1026.6791 | I36: =H36*E36 -> 21560.261 | J36: =F36/'FX Rate'!F7 -> 1214.1392 | K36: =E36*J36 -> 25496.923
B37: 8 | C37: Mechanical & Biofilter Zeolites | D37: pcs | E37: 21 | F37: 15115 | G37: =SUM(E37*F37) -> 317415 | H37: =F37/'FX Rate'!F10 -> 3103.6509 | I37: =H37*E37 -> 65176.668 | J37: =F37/'FX Rate'!F7 -> 3670.3428 | K37: =E37*J37 -> 77077.198
B38: 9 | C38: Air conditioner storehouse of food 12000BTU/h, | D38: unit | E38: 6 | F38: 2210 | G38: =SUM(E38*F38) -> 13260 | H38: =F38/'FX Rate'!F10 -> 453.79215 | I38: =H38*E38 -> 2722.7529 | J38: =F38/'FX Rate'!F7 -> 536.64952 | K38: =E38*J38 -> 3219.8971
B39: 10 | C39: UV system | D39: pcs | E39: 21 | F39: 2700 | G39: =SUM(E39*F39) -> 56700 | H39: =F39/'FX Rate'!F10 -> 554.4067 | I39: =H39*E39 -> 11642.541 | J39: =F39/'FX Rate'!F7 -> 655.63516 | K39: =E39*J39 -> 13768.338
B40: 11 | C40: Fish feeding Robot | D40: kit | E40: 1 | F40: 70463 | G40: =SUM(E40*F40) -> 70463 | H40: =F40/'FX Rate'!F10 -> 14468.578 | I40: =H40*E40 -> 14468.578 | J40: =F40/'FX Rate'!F7 -> 17110.378 | K40: =E40*J40 -> 17110.378
B41: 12 | C41: Oxigen Generator Grow Beds | D41: buc | E41: 1 | F41: 25000 | G41: =SUM(E41*F41) -> 25000 | H41: =F41/'FX Rate'!F10 -> 5133.3954 | I41: =H41*E41 -> 5133.3954 | J41: =F41/'FX Rate'!F7 -> 6070.6959 | K41: =E41*J41 -> 6070.6959
B42: 13 | C42: Oxygenating Tank Water | D42: buc | E42: 1 | F42: 22450 | G42: =SUM(E42*F42) -> 22450 | H42: =F42/'FX Rate'!F10 -> 4609.7891 | I42: =H42*E42 -> 4609.7891 | J42: =F42/'FX Rate'!F7 -> 5451.4849 | K42: =E42*J42 -> 5451.4849
B43: 14 | C43: Automation Module Senzor DO, pH, Temp. | D43: buc | E43: 21 | F43: 1249 | G43: =SUM(E43*F43) -> 26229 | H43: =F43/'FX Rate'!F10 -> 256.46443 | I43: =H43*E43 -> 5385.7531 | J43: =F43/'FX Rate'!F7 -> 303.29197 | K43: =E43*J43 -> 6369.1313
...

Sheet Power util.
B3: Power Consumption | I3: FY1 | J3: 2017 | M3: FY2 | N3: 2018 | Q3: FY3 | R3: 2019 | U3: FY4 | V3: 2020 | Y3: FY5 | Z3: 2021 | AC3: FY6 | AD3: 2022 | AG3: FY7 | AH3: 2023 | AK3: FY8 | AL3: 2024 | AO3: FY9 | AP3: 2025 | AS3: FY10 | AT3: 2026 | AW3: FY11 | AX3: 2027 | BA3: FY12 | BB3: 2028 | BE3: FY13 | BF3: 2029 | BI3: FY14 | BJ3: 2030 | BM3: FY15 | BN3: 2031
B4: Nr.crt | C4: Domain component | D4: Component description | E4: Power/unit Kw | F4: Nr. of unit | G4: % Function | H4: Consum / Q | I4: Q1 | J4: Q2 | K4: Q3 | L4: Q4 | M4: Q1 | N4: Q2 | O4: Q3 | P4: Q4 | Q4: Q1 | R4: Q2 | S4: Q3 | T4: Q4 | U4: Q1 | V4: Q2 | W4: Q3 | X4: Q4 | Y4: Q1 | Z4: Q2 | AA4: Q3 | AB4: Q4 | AC4: Q1 | AD4: Q2 | AE4: Q3 | AF4: Q4 | AG4: Q1 | AH4: Q2 | AI4: Q3 | AJ4: Q4 | AK4: Q1 | AL4: Q2 | AM4: Q3 | AN4: Q4 | AO4: Q1 | AP4: Q2 | AQ4: Q3 | AR4: Q4 | AS4: Q1 | AT4: Q2 | AU4: Q3 | AV4: Q4 | AW4: Q1 | AX4: Q2 | AY4: Q3 | AZ4: Q4 | BA4: Q1 | BB4: Q2 | BC4: Q3 | BD4: Q4 | BE4: Q1 | BF4: Q2 | BG4: Q3 | BH4: Q4 | BI4: Q1 | BJ4: Q2 | BK4: Q3 | BL4: Q4 | BM4: Q1 | BN4: Q2 | BO4: Q3 | BP4: Q4
B5: 1 | C5: ='Farm Overhaul'!B2 -> Farm Platform | D5: ='Farm Overhaul'!C13 -> OD Lighting 125W PC AGS HG Mercur | E5: 0.125 | F5: ='Farm Overhaul'!E13 -> 24 | G5: 0.1 | H5: =E5*F5/100*G5*24*90 -> 6.48 | I5: 1 | L5: 0.3 | M5: 1 | P5: 0.3 | Q5: 1 | T5: 0.3 | U5: 1 | X5: 0.3 | Y5: 1 | AB5: 0.3 | AC5: 1 | AF5: 0.3 | AG5: 1 | AJ5: 0.3 | AK5: 1 | AN5: 0.3 | AO5: 1 | AR5: 0.3 | AS5: 1 | AV5: 0.3 | AW5: 1 | AZ5: 0.3 | BA5: 1 | BD5: 0.3 | BE5: 1 | BH5: 0.3 | BI5: 1 | BL5: 0.3 | BM5: 1 | BP5: 0.3
B6: 2 | D6: ='Farm Overhaul'!C15 -> Surveillance Cameras day night | E6: 0.005 | F6: ='Farm Overhaul'!E15 -> 8 | G6: 100 | H6: =E6*F6/100*G6*24*90 -> 86.4 | I6: 1 | L6: 0.3 | M6: 1 | P6: 0.3 | Q6: 1 | T6: 0.3 | U6: 1 | X6: 0.3 | Y6: 1 | AB6: 0.3 | AC6: 1 | AF6: 0.3 | AG6: 1 | AJ6: 0.3 | AK6: 1 | AN6: 0.3 | AO6: 1 | AR6: 0.3 | AS6: 1 | AV6: 0.3 | AW6: 1 | AZ6: 0.3 | BA6: 1 | BD6: 0.3 | BE6: 1 | BH6: 0.3 | BI6: 1 | BL6: 0.3 | BM6: 1 | BP6: 0.3
B7: 3 | D7: ='Farm Overhaul'!C17 -> Surveilance DVR 32 Input | E7: 1.1 | F7: ='Farm Overhaul'!E17 -> 1 | G7: 5 | H7: =E7*F7/100*G7*24*90 -> 118.8 | I7: 1 | L7: 0.3 | M7: 1 | P7: 0.3 | Q7: 1 | T7: 0.3 | U7: 1 | X7: 0.3 | Y7: 1 | AB7: 0.3 | AC7: 1 | AF7: 0.3 | AG7: 1 | AJ7: 0.3 | AK7: 1 | AN7: 0.3 | AO7: 1 | AR7: 0.3 | AS7: 1 | AV7: 0.3 | AW7: 1 | AZ7: 0.3 | BA7: 1 | BD7: 0.3 | BE7: 1 | BH7: 0.3 | BI7: 1 | BL7: 0.3 | BM7: 1 | BP7: 0.3
B8: 4 | C8: Reproduction Farm Unit | D8: ='Farm Overhaul'!C34 -> Recirculate Pomp | E8: 0.3 | F8: 14 | G8: 100 | H8: =E8*F8/100*G8*24*90 -> 9072 | I8: 1 | L8: 0.3 | M8: 1 | P8: 0.3 | Q8: 1 | T8: 0.3 | U8: 1 | X8: 0.3 | Y8: 1 | AB8: 0.3 | AC8: 1 | AF8: 0.3 | AG8: 1 | AJ8: 0.3 | AK8: 1 | AN8: 0.3 | AO8: 1 | AR8: 0.3 | AS8: 1 | AV8: 0.3 | AW8: 1 | AZ8: 0.3 | BA8: 1 | BD8: 0.3 | BE8: 1 | BH8: 0.3 | BI8: 1 | BL8: 0.3 | BM8: 1 | BP8: 0.3
B9: 5 | D9: ='Farm Overhaul'!C35 -> Filter Mechanical | E9: 0.5 | F9: 14 | G9: 4 | H9: =E9*F9/100*G9*24*90 -> 604.8 | I9: 1 | L9: 0.3 | M9: 1 | P9: 0.3 | Q9: 1 | T9: 0.3 | U9: 1 | X9: 0.3 | Y9: 1 | AB9: 0.3 | AC9: 1 | AF9: 0.3 | AG9: 1 | AJ9: 0.3 | AK9: 1 | AN9: 0.3 | AO9: 1 | AR9: 0.3 | AS9: 1 | AV9: 0.3 | AW9: 1 | AZ9: 0.3 | BA9: 1 | BD9: 0.3 | BE9: 1 | BH9: 0.3 | BI9: 1 | BL9: 0.3 | BM9: 1 | BP9: 0.3
B10: 6 | D10: ='Farm Overhaul'!C37 -> Mechanical & Biofilter Zeolites | E10: 1.3 | F10: 21 | G10: 100 | H10: =E10*F10/100*G10*24*90 -> 58968 | I10: 1 | L10: 0.3 | M10: 1 | P10: 0.3 | Q10: 1 | T10: 0.3 | U10: 1 | X10: 0.3 | Y10: 1 | AB10: 0.3 | AC10: 1 | AF10: 0.3 | AG10: 1 | AJ10: 0.3 | AK10: 1 | AN10: 0.3 | AO10: 1 | AR10: 0.3 | AS10: 1 | AV10: 0.3 | AW10: 1 | AZ10: 0.3 | BA10: 1 | BD10: 0.3 | BE10: 1 | BH10: 0.3 | BI10: 1 | BL10: 0.3 | BM10: 1 | BP10: 0.3
B11: 7 | D11: ='Farm Overhaul'!C38 -> Air conditioner storehouse of food 12000BTU/h, | E11: 2.0 | F11: 6 | G11: 10 | H11: =E11*F11/100*G11*24*90 -> 2592 | I11: 1 | L11: 0.3 | M11: 1 | P11: 0.3 | Q11: 1 | T11: 0.3 | U11: 1 | X11: 0.3 | Y11: 1 | AB11: 0.3 | AC11: 1 | AF11: 0.3 | AG11: 1 | AJ11: 0.3 | AK11: 1 | AN11: 0.3 | AO11: 1 | AR11: 0.3 | AS11: 1 | AV11: 0.3 | AW11: 1 | AZ11: 0.3 | BA11: 1 | BD11: 0.3 | BE11: 1 | BH11: 0.3 | BI11: 1 | BL11: 0.3 | BM11: 1 | BP11: 0.3
B12: 8 | D12: ='Farm Overhaul'!C39 -> UV system | E12: 0.500 | F12: 14 | G12: 100 | H12: =E12*F12/100*G12*24*90 -> 15120 | I12: 1 | L12: 0.3 | M12: 1 | P12: 0.3 | Q12: 1 | T12: 0.3 | U12: 1 | X12: 0.3 | Y12: 1 | AB12: 0.3 | AC12: 1 | AF12: 0.3 | AG12: 1 | AJ12: 0.3 | AK12: 1 | AN12: 0.3 | AO12: 1 | AR12: 0.3 | AS12: 1 | AV12: 0.3 | AW12: 1 | AZ12: 0.3 | BA12: 1 | BD12: 0.3 | BE12: 1 | BH12: 0.3 | BI12: 1 | BL12: 0.3 | BM12: 1 | BP12: 0.3
B13: 9 | D13: ='Farm Overhaul'!C40 -> Fish feeding Robot | E13: 1.5 | F13: ='Farm Overhaul'!E40 -> 1 | G13: 0.1 | H13: =E13*F13/100*G13*24*90 -> 3.24 | I13: 1 | L13: 0.3 | M13: 1 | P13: 0.3 | Q13: 1 | T13: 0.3 | U13: 1 | X13: 0.3 | Y13: 1 | AB13: 0.3 | AC13: 1 | AF13: 0.3 | AG13: 1 | AJ13: 0.3 | AK13: 1 | AN13: 0.3 | AO13: 1 | AR13: 0.3 | AS13: 1 | AV13: 0.3 | AW13: 1 | AZ13: 0.3 | BA13: 1 | BD13: 0.3 | BE13: 1 | BH13: 0.3 | BI13: 1 | BL13: 0.3 | BM13: 1 | BP13: 0.3
B14: 10 | D14: ='Farm Overhaul'!C41 -> Oxigen Generator Grow Beds | E14: 3 | F14: ='Farm Overhaul'!E41 -> 1 | G14: 0.01 | H14: =E14*F14/100*G14*24*90 -> 0.648 | I14: 1 | L14: 0.3 | M14: 1 | P14: 0.3 | Q14: 1 | T14: 0.3 | U14: 1 | X14: 0.3 | Y14: 1 | AB14: 0.3 | AC14: 1 | AF14: 0.3 | AG14: 1 | AJ14: 0.3 | AK14: 1 | AN14: 0.3 | AO14: 1 | AR14: 0.3 | AS14: 1 | AV14: 0.3 | AW14: 1 | AZ14: 0.3 | BA14: 1 | BD14: 0.3 | BE14: 1 | BH14: 0.3 | BI14: 1 | BL14: 0.3 | BM14: 1 | BP14: 0.3
B15: 11 | D15: ='Farm Overhaul'!C42 -> Oxygenating Tank Water | E15: 6 | F15: 4 | G15: 0.01 | H15: =E15*F15/100*G15*24*90 -> 5.184 | I15: 1 | L15: 0.3 | M15: 1 | P15: 0.3 | Q15: 1 | T15: 0.3 | U15: 1 | X15: 0.3 | Y15: 1 | AB15: 0.3 | AC15: 1 | AF15: 0.3 | AG15: 1 | AJ15: 0.3 | AK15: 1 | AN15: 0.3 | AO15: 1 | AR15: 0.3 | AS15: 1 | AV15: 0.3 | AW15: 1 | AZ15: 0.3 | BA15: 1 | BD15: 0.3 | BE15: 1 | BH15: 0.3 | BI15: 1 | BL15: 0.3 | BM15: 1 | BP15: 0.3
B16: 12 | D16: ='Farm Overhaul'!C43 -> Automation Module Senzor DO, pH, Temp. | E16: 0.01 | F16: 21 | G16: 100 | H16: =E16*F16/100*G16*24*90 -> 453.6 | I16: 1 | L16: 0.3 | M16: 1 | P16: 0.3 | Q16: 1 | T16: 0.3 | U16: 1 | X16: 0.3 | Y16: 1 | AB16: 0.3 | AC16: 1 | AF16: 0.3 | AG16: 1 | AJ16: 0.3 | AK16: 1 | AN16: 0.3 | AO16: 1 | AR16: 0.3 | AS16: 1 | AV16: 0.3 | AW16: 1 | AZ16: 0.3 | BA16: 1 | BD16: 0.3 | BE16: 1 | BH16: 0.3 | BI16: 1 | BL16: 0.3 | BM16: 1 | BP16: 0.3
B17: 13 | C17: ='Farm Overhaul'!B50 -> Lab equipment | D17: ='Farm Overhaul'!C56 -> Spectrometer DR 3900 Hach Lange | E17: 0.005 | F17: ='Farm Overhaul'!E56 -> 1 | G17: 0.01 | H17: =E17*F17/100*G17*24*90 -> 0.00108 | I17: 1 | L17: 0.3 | M17: 1 | P17: 0.3 | Q17: 1 | T17: 0.3 | U17: 1 | X17: 0.3 | Y17: 1 | AB17: 0.3 | AC17: 1 | AF17: 0.3 | AG17: 1 | AJ17: 0.3 | AK17: 1 | AN17: 0.3 | AO17: 1 | AR17: 0.3 | AS17: 1 | AV17: 0.3 | AW17: 1 | AZ17: 0.3 | BA17: 1 | BD17: 0.3 | BE17: 1 | BH17: 0.3 | BI17: 1 | BL17: 0.3 | BM17: 1 | BP17: 0.3
B18: 14 | D18: ='Farm Overhaul'!C57 -> Incubator microbiology EVX131 | E18: 1 | F18: ='Farm Overhaul'!E57 -> 1 | G18: 0.01 | H18: =E18*F18/100*G18*24*90 -> 0.216 | I18: 1 | L18: 0.3 | M18: 1 | P18: 0.3 | Q18: 1 | T18: 0.3 | U18: 1 | X18: 0.3 | Y18: 1 | AB18: 0.3 | AC18: 1 | AF18: 0.3 | AG18: 1 | AJ18: 0.3 | AK18: 1 | AN18: 0.3 | AO18: 1 | AR18: 0.3 | AS18: 1 | AV18: 0.3 | AW18: 1 | AZ18: 0.3 | BA18: 1 | BD18: 0.3 | BE18: 1 | BH18: 0.3 | BI18: 1 | BL18: 0.3 | BM18: 1 | BP18: 0.3
B19: 15 | D19: ='Farm Overhaul'!C59 -> BOD Direct Respirometric BOD Apparatus | E19: 0.2 | F19: ='Farm Overhaul'!E59 -> 1 | G19: 0.01 | H19: =E19*F19/100*G19*24*90 -> 0.0432 | I19: 1 | L19: 0.3 | M19: 1 | P19: 0.3 | Q19: 1 | T19: 0.3 | U19: 1 | X19: 0.3 | Y19: 1 | AB19: 0.3 | AC19: 1 | AF19: 0.3 | AG19: 1 | AJ19: 0.3 | AK19: 1 | AN19: 0.3 | AO19: 1 | AR19: 0.3 | AS19: 1 | AV19: 0.3 | AW19: 1 | AZ19: 0.3 | BA19: 1 | BD19: 0.3 | BE19: 1 | BH19: 0.3 | BI19: 1 | BL19: 0.3 | BM19: 1 | BP19: 0.3
B20: 16 | D20: ='Farm Overhaul'!C61 -> Thermostat LT200 COD Apparatus | E20: 0.45 | F20: ='Farm Overhaul'!E61 -> 1 | G20: 0.01 | H20: =E20*F20/100*G20*24*90 -> 0.0972 | I20: 1 | L20: 0.3 | M20: 1 | P20: 0.3 | Q20: 1 | T20: 0.3 | U20: 1 | X20: 0.3 | Y20: 1 | AB20: 0.3 | AC20: 1 | AF20: 0.3 | AG20: 1 | AJ20: 0.3 | AK20: 1 | AN20: 0.3 | AO20: 1 | AR20: 0.3 | AS20: 1 | AV20: 0.3 | AW20: 1 | AZ20: 0.3 | BA20: 1 | BD20: 0.3 | BE20: 1 | BH20: 0.3 | BI20: 1 | BL20: 0.3 | BM20: 1 | BP20: 0.3
B21: 17 | D21: ='Farm Overhaul'!C62 -> Refrigerator 200 l | E21: 0.4 | F21: ='Farm Overhaul'!E62 -> 2 | G21: 100 | H21: =E21*F21/100*G21*24*90 -> 1728 | I21: 1 | L21: 0.3 | M21: 1 | P21: 0.3 | Q21: 1 | T21: 0.3 | U21: 1 | X21: 0.3 | Y21: 1 | AB21: 0.3 | AC21: 1 | AF21: 0.3 | AG21: 1 | AJ21: 0.3 | AK21: 1 | AN21: 0.3 | AO21: 1 | AR21: 0.3 | AS21: 1 | AV21: 0.3 | AW21: 1 | AZ21: 0.3 | BA21: 1 | BD21: 0.3 | BE21: 1 | BH21: 0.3 | BI21: 1 | BL21: 0.3 | BM21: 1 | BP21: 0.3
B22: 19 | D22: ='Farm Overhaul'!C41 -> Oxigen Generator Grow Beds | E22: 10 | F22: ='Farm Overhaul'!E41 -> 1 | G22: 5 | H22: =E22*F22/100*G22*24*90 -> 1080 | I22: 1 | L22: 0.3 | M22: 1 | P22: 0.3 | Q22: 1 | T22: 0.3 | U22: 1 | X22: 0.3 | Y22: 1 | AB22: 0.3 | AC22: 1 | AF22: 0.3 | AG22: 1 | AJ22: 0.3 | AK22: 1 | AN22: 0.3 | AO22: 1 | AR22: 0.3 | AS22: 1 | AV22: 0.3 | AW22: 1 | AZ22: 0.3 | BA22: 1 | BD22: 0.3 | BE22: 1 | BH22: 0.3 | BI22: 1 | BL22: 0.3 | BM22: 1 | BP22: 0.3
B23: 20 | D23: ='Farm Overhaul'!C43 -> Automation Module Senzor DO, pH, Temp. | E23: 0.005 | F23: ='Farm Overhaul'!E43 -> 21 | G23: 100 | H23: =E23*F23/100*G23*24*90 -> 226.8 | I23: 1 | L23: 0.3 | M23: 1 | P23: 0.3 | Q23: 1 | T23: 0.3 | U23: 1 | X23: 0.3 | Y23: 1 | AB23: 0.3 | AC23: 1 | AF23: 0.3 | AG23: 1 | AJ23: 0.3 | AK23: 1 | AN23: 0.3 | AO23: 1 | AR23: 0.3 | AS23: 1 | AV23: 0.3 | AW23: 1 | AZ23: 0.3 | BA23: 1 | BD23: 0.3 | BE23: 1 | BH23: 0.3 | BI23: 1 | BL23: 0.3 | BM23: 1 | BP23: 0.3
B24: 21 | D24: ='Farm Overhaul'!C44 -> Electric and Automation Panel | E24: 0.001 | F24: ='Farm Overhaul'!E44 -> 2 | G24: 100 | H24: =E24*F24/100*G24*24*90 -> 4.32 | I24: 1 | L24: 0.3 | M24: 1 | P24: 0.3 | Q24: 1 | T24: 0.3 | U24: 1 | X24: 0.3 | Y24: 1 | AB24: 0.3 | AC24: 1 | AF24: 0.3 | AG24: 1 | AJ24: 0.3 | AK24: 1 | AN24: 0.3 | AO24: 1 | AR24: 0.3 | AS24: 1 | AV24: 0.3 | AW24: 1 | AZ24: 0.3 | BA24: 1 | BD24: 0.3 | BE24: 1 | BH24: 0.3 | BI24: 1 | BL24: 0.3 | BM24: 1 | BP24: 0.3
B25: 22 | C25: ='Farm Overhaul'!B69 -> Control Room | D25: ='Farm Overhaul'!C76 -> Monitors 32" | E25: 0.1 | F25: ='Farm Overhaul'!E76 -> 4 | G25: 100 | H25: =E25*F25/100*G25*24*90 -> 864 | I25: 1 | L25: 0.3 | M25: 1 | P25: 0.3 | Q25: 1 | T25: 0.3 | U25: 1 | X25: 0.3 | Y25: 1 | AB25: 0.3 | AC25: 1 | AF25: 0.3 | AG25: 1 | AJ25: 0.3 | AK25: 1 | AN25: 0.3 | AO25: 1 | AR25: 0.3 | AS25: 1 | AV25: 0.3 | AW25: 1 | AZ25: 0.3 | BA25: 1 | BD25: 0.3 | BE25: 1 | BH25: 0.3 | BI25: 1 | BL25: 0.3 | BM25: 1 | BP25: 0.3
B26: 23 | D26: ='Farm Overhaul'!C77 -> PMR Walkie Talkie | E26: 0.01 | F26: ='Farm Overhaul'!E77 -> 6 | G26: 100 | H26: =E26*F26/100*G26*24*90 -> 129.6 | I26: 1 | L26: 0.3 | M26: 1 | P26: 0.3 | Q26: 1 | T26: 0.3 | U26: 1 | X26: 0.3 | Y26: 1 | AB26: 0.3 | AC26: 1 | AF26: 0.3 | AG26: 1 | AJ26: 0.3 | AK26: 1 | AN26: 0.3 | AO26: 1 | AR26: 0.3 | AS26: 1 | AV26: 0.3 | AW26: 1 | AZ26: 0.3 | BA26: 1 | BD26: 0.3 | BE26: 1 | BH26: 0.3 | BI26: 1 | BL26: 0.3 | BM26: 1 | BP26: 0.3
B27: 24 | D27: ='Farm Overhaul'!C78 -> Main processor server | E27: 0.1 | F27: ='Farm Overhaul'!E78 -> 2 | G27: 100 | H27: =E27*F27/100*G27*24*90 -> 432 | I27: 1 | L27: 0.3 | M27: 1 | P27: 0.3 | Q27: 1 | T27: 0.3 | U27: 1 | X27: 0.3 | Y27: 1 | AB27: 0.3 | AC27: 1 | AF27: 0.3 | AG27: 1 | AJ27: 0.3 | AK27: 1 | AN27: 0.3 | AO27: 1 | AR27: 0.3 | AS27: 1 | AV27: 0.3 | AW27: 1 | AZ27: 0.3 | BA27: 1 | BD27: 0.3 | BE27: 1 | BH27: 0.3 | BI27: 1 | BL27: 0.3 | BM27: 1 | BP27: 0.3
B28: 25 | C28: ='Farm Overhaul'!B82 -> IT Infrastructure | D28: ='Farm Overhaul'!C86 -> Server | E28: 0.1 | F28: ='Farm Overhaul'!E86 -> 2 | G28: 100 | H28: =E28*F28/100*G28*24*90 -> 432 | I28: 1 | L28: 0.3 | M28: 1 | P28: 0.3 | Q28: 1 | T28: 0.3 | U28: 1 | X28: 0.3 | Y28: 1 | AB28: 0.3 | AC28: 1 | AF28: 0.3 | AG28: 1 | AJ28: 0.3 | AK28: 1 | AN28: 0.3 | AO28: 1 | AR28: 0.3 | AS28: 1 | AV28: 0.3 | AW28: 1 | AZ28: 0.3 | BA28: 1 | BD28: 0.3 | BE28: 1 | BH28: 0.3 | BI28: 1 | BL28: 0.3 | BM28: 1 | BP28: 0.3
B29: 26 | D29: ='Farm Overhaul'!C87 -> Wireless network | E29: 0.05 | F29: ='Farm Overhaul'!E87 -> 8 | G29: 100 | H29: =E29*F29/100*G29*24*90 -> 864 | I29: 1 | L29: 0.3 | M29: 1 | P29: 0.3 | Q29: 1 | T29: 0.3 | U29: 1 | X29: 0.3 | Y29: 1 | AB29: 0.3 | AC29: 1 | AF29: 0.3 | AG29: 1 | AJ29: 0.3 | AK29: 1 | AN29: 0.3 | AO29: 1 | AR29: 0.3 | AS29: 1 | AV29: 0.3 | AW29: 1 | AZ29: 0.3 | BA29: 1 | BD29: 0.3 | BE29: 1 | BH29: 0.3 | BI29: 1 | BL29: 0.3 | BM29: 1 | BP29: 0.3
F30: Total Kw per 15 years | H30: =SUM(I30:BP30) -> 1809448.5 | I30: =SUMPRODUCT($H5:$H29,I5:I29) -> 92792.229 | J30: =SUMPRODUCT($H5:$H29,J5:J29) -> 0 | K30: =SUMPRODUCT($H5:$H29,K5:K29) -> 0 | L30: =SUMPRODUCT($H5:$H29,L5:L29) -> 27837.669 | M30: =SUMPRODUCT($H5:$H29,M5:M29) -> 92792.229 | N30: =SUMPRODUCT($H5:$H29,N5:N29) -> 0 | O30: =SUMPRODUCT($H5:$H29,O5:O29) -> 0 | P30: =SUMPRODUCT($H5:$H29,P5:P29) -> 27837.669 | ... BP30: =SUMPRODUCT($H5:$H29,BP5:BP29) -> 27837.669
D32: Cost electric energy in Romania / kw | E32: 0.35 | F32: =E32/'FX Rate'!F10 -> 0.071867535 | G32: / kw | H32: =SUM(I32,J32:BP32) -> 130040.6 | I32: =I30*F32 -> 6668.7488 | J32: =J30*F32 -> 0 | K32: =K30*F32 -> 0 | L32: =L30*F32 -> 2000.6247 | M32: =M30*F32 -> 6668.7488 | N32: =N30*F32 -> 0 | O32: =O30*F32 -> 0 | P32: =P30*F32 -> 2000.6247 | Q32: =Q30*F32 -> 6668.7488 | R32: =R30*F32 -> 0 | S32: =S30*F32 -> 0 | T32: =T30*F32 -> 2000.6247 | U32: =U30*F32 -> 6668.7488 | V32: =V30*F32 -> 0 | W32: =W30*F32 -> 0 | X32: =X30*F32 -> 2000.6247 | Y32: =Y30*F32 -> 6668.7488 | Z32: =Z30*F32 -> 0 | AA32: =AA30*F32 -> 0 | AB32: =AB30*F32 -> 2000.6247 | AC32: =AC30*F32 -> 6668.7488 | AD32: =AD30*F32 -> 0 | AE32: =AE30*F32 -> 0 | AF32: =AF30*F32 -> 2000.6247 | AG32: =AG30*F32 -> 6668.7488 | AH32: =AH30*F32 -> 0 | AI32: =AI30*F32 -> 0 | AJ32: =AJ30*F32 -> 2000.6247 | AK32: =AK30*F32 -> 6668.7488 | AL32: =AL30*F32 -> 0 | AM32: =AM30*F32 -> 0 | AN32: =AN30*F32 -> 2000.6247 | AO32: =AO30*F32 -> 6668.7488 | AP32: =AP30*F32 -> 0 | AQ32: =AQ30*F32 -> 0 | AR32: =AR30*F32 -> 2000.6247 | AS32: =AS30*F32 -> 6668.7488 | AT32: =AT30*F32 -> 0 | AU32: =AU30*F32 -> 0 | AV32: =AV30*F32 -> 2000.6247 | AW32: =AW30*F32 -> 6668.7488 | AX32: =AX30*F32 -> 0 | AY32: =AY30*F32 -> 0 | AZ32: =AZ30*F32 -> 2000.6247 | BA32: =BA30*F32 -> 6668.7488 | BB32: =BB30*F32 -> 0 | BC32: =BC30*F32 -> 0 | BD32: =BD30*F32 -> 2000.6247 | BE32: =BE30*F32 -> 6668.7488 | BF32: =BF30*F32 -> 0 | BG32: =BG30*F32 -> 0 | BH32: =BH30*F32 -> 2000.6247 | BI32: =BI30*F32 -> 6668.7488 | BJ32: =BJ30*F32 -> 0 | BK32: =BK30*F32 -> 0 | BL32: =BL30*F32 -> 2000.6247 | BM32: =BM30*F32 -> 6668.7488 | BN32: =BN30*F32 -> 0 | BO32: =BO30*F32 -> 0 | BP32: =BP30*F32 -> 2000.6247
G34: Annualy | H34: =H32/15 -> 8669.3735
G36: Mountly | H36: =H34/12 -> 722.44779
G38: Daily | H38: =H36/30 -> 24.081593
G40: Hourly | H40: =H38/24 -> 1.0033997

Sheet Water Volume
C4: Species | D4: Pcs. | F4: FY1 | G4: FY2 | H4: FY3 | I4: FY4 | J4: FY5 | K4: FY6 | L4: FY7 | M4: FY8 | N4: FY9 | O4: FY10 | P4: FY11 | Q4: FY12 | R4: FY13 | S4: FY14 | T4: FY15
C5: Ruthenus | D5: 300000 | F5: ='UNIFIED Product'!E16 -> 4788.4156 | G5: ='UNIFIED Product'!F16 -> 4788.4156 | H5: ='UNIFIED Product'!G16 -> 4788.4156 | I5: ='UNIFIED Product'!H16 -> 4788.4156 | J5: ='UNIFIED Product'!I16 -> 4788.4156 | K5: ='UNIFIED Product'!J16 -> 4788.4156 | L5: ='UNIFIED Product'!K16 -> 4788.4156 | M5: ='UNIFIED Product'!L16 -> 4788.4156 | ... T5: ='UNIFIED Product'!S16 -> 4788.4156
C6: Baeri | D6: 300000 | F6: ='UNIFIED Product'!E23 -> 1512.0264 | G6: ='UNIFIED Product'!F23 -> 1512.0264 | H6: ='UNIFIED Product'!G23 -> 1512.0264 | I6: ='UNIFIED Product'!H23 -> 1512.0264 | J6: ='UNIFIED Product'!I23 -> 1512.0264 | K6: ='UNIFIED Product'!J23 -> 1512.0264 | L6: ='UNIFIED Product'!K23 -> 1512.0264 | M6: ='UNIFIED Product'!L23 -> 1512.0264 | ... T6: ='UNIFIED Product'!S23 -> 1512.0264
C7: Stellatus | D7: 300000 | F7: ='UNIFIED Product'!E30 -> 682.90394 | G7: ='UNIFIED Product'!F30 -> 682.90394 | H7: ='UNIFIED Product'!G30 -> 682.90394 | I7: ='UNIFIED Product'!H30 -> 682.90394 | J7: ='UNIFIED Product'!I30 -> 682.90394 | K7: ='UNIFIED Product'!J30 -> 682.90394 | L7: ='UNIFIED Product'!K30 -> 682.90394 | M7: ='UNIFIED Product'!L30 -> 682.90394 | ... T7: ='UNIFIED Product'!S30 -> 682.90394
C8: Guelden | D8: 300000 | F8: ='UNIFIED Product'!E37 -> 772.63016 | G8: ='UNIFIED Product'!F37 -> 772.63016 | H8: ='UNIFIED Product'!G37 -> 772.63016 | I8: ='UNIFIED Product'!H37 -> 772.63016 | J8: ='UNIFIED Product'!I37 -> 772.63016 | K8: ='UNIFIED Product'!J37 -> 772.63016 | L8: ='UNIFIED Product'!K37 -> 772.63016 | M8: ='UNIFIED Product'!L37 -> 772.63016 | ... T8: ='UNIFIED Product'!S37 -> 772.63016
C9: Huso | D9: 300000 | F9: ='UNIFIED Product'!E44 -> 1668.3252 | G9: ='UNIFIED Product'!F44 -> 1668.3252 | H9: ='UNIFIED Product'!G44 -> 1668.3252 | I9: ='UNIFIED Product'!H44 -> 1668.3252 | J9: ='UNIFIED Product'!I44 -> 1668.3252 | K9: ='UNIFIED Product'!J44 -> 1668.3252 | L9: ='UNIFIED Product'!K44 -> 1668.3252 | M9: ='UNIFIED Product'!L44 -> 1668.3252 | ... T9: ='UNIFIED Product'!S44 -> 1668.3252
C11: Densitate kg/m2 | D11: 28 | E11: kg | F11: =SUM(F5:F9) -> 9424.3013 | G11: =SUM(G5:G9) -> 9424.3013 | H11: =SUM(H5:H9) -> 9424.3013 | I11: =SUM(I5:I9) -> 9424.3013 | J11: =SUM(J5:J9) -> 9424.3013 | K11: =SUM(K5:K9) -> 9424.3013 | L11: =SUM(L5:L9) -> 9424.3013 | M11: =SUM(M5:M9) -> 9424.3013 | ... T11: =SUM(T5:T9) -> 9424.3013
F14: FY1 | G14: FY2 | H14: FY3 | I14: FY4 | J14: FY5 | K14: FY6 | L14: FY7 | M14: FY8 | N14: FY9 | O14: FY10 | P14: FY11 | Q14: FY12 | R14: FY13 | S14: FY14 | T14: FY15
D15: Ruthenus | F15: =F5/D11 -> 171.01484 | G15: =G5/D11 -> 171.01484 | H15: =H5/D11 -> 171.01484 | I15: =I5/D11 -> 171.01484 | J15: =J5/D11 -> 171.01484 | K15: =K5/D11 -> 171.01484 | L15: =L5/D11 -> 171.01484 | M15: =M5/D11 -> 171.01484 | N15: =N5/D11 -> 171.01484 | O15: =O5/D11 -> 171.01484 | P15: =P5/D11 -> 171.01484 | Q15: =Q5/D11 -> 171.01484 | R15: =R5/D11 -> 171.01484 | S15: =S5/D11 -> 171.01484 | T15: =T5/D11 -> 171.01484
D16: Baeri | F16: =F6/D11 -> 54.000944 | G16: =G6/D11 -> 54.000944 | H16: =H6/D11 -> 54.000944 | I16: =I6/D11 -> 54.000944 | J16: =J6/D11 -> 54.000944 | K16: =K6/D11 -> 54.000944 | L16: =L6/D11 -> 54.000944 | M16: =M6/D11 -> 54.000944 | N16: =N6/D11 -> 54.000944 | O16: =O6/D11 -> 54.000944 | P16: =P6/D11 -> 54.000944 | Q16: =Q6/D11 -> 54.000944 | R16: =R6/D11 -> 54.000944 | S16: =S6/D11 -> 54.000944 | T16: =T6/D11 -> 54.000944
D17: Stellatus | F17: =F7/D11 -> 24.389426 | G17: =G7/D11 -> 24.389426 | H17: =H7/D11 -> 24.389426 | I17: =I7/D11 -> 24.389426 | J17: =J7/D11 -> 24.389426 | K17: =K7/D11 -> 24.389426 | L17: =L7/D11 -> 24.389426 | M17: =M7/D11 -> 24.389426 | N17: =N7/D11 -> 24.389426 | O17: =O7/D11 -> 24.389426 | P17: =P7/D11 -> 24.389426 | Q17: =Q7/D11 -> 24.389426 | R17: =R7/D11 -> 24.389426 | S17: =S7/D11 -> 24.389426 | T17: =T7/D11 -> 24.389426
D18: Guelden | F18: =F8/D11 -> 27.593934 | G18: =G8/D11 -> 27.593934 | H18: =H8/D11 -> 27.593934 | I18: =I8/D11 -> 27.593934 | J18: =J8/D11 -> 27.593934 | K18: =K8/D11 -> 27.593934 | L18: =L8/D11 -> 27.593934 | M18: =M8/D11 -> 27.593934 | N18: =N8/D11 -> 27.593934 | O18: =O8/D11 -> 27.593934 | P18: =P8/D11 -> 27.593934 | Q18: =Q8/D11 -> 27.593934 | R18: =R8/D11 -> 27.593934 | S18: =S8/D11 -> 27.593934 | T18: =T8/D11 -> 27.593934
D19: Huso | F19: =F9/D11 -> 59.583041 | G19: =G9/D11 -> 59.583041 | H19: =H9/D11 -> 59.583041 | I19: =I9/D11 -> 59.583041 | J19: =J9/D11 -> 59.583041 | K19: =K9/D11 -> 59.583041 | L19: =L9/D11 -> 59.583041 | M19: =M9/D11 -> 59.583041 | N19: =N9/D11 -> 59.583041 | O19: =O9/D11 -> 59.583041 | P19: =P9/D11 -> 59.583041 | Q19: =Q9/D11 -> 59.583041 | R19: =R9/D11 -> 59.583041 | S19: =S9/D11 -> 59.583041 | T19: =T9/D11 -> 59.583041
F21: =SUM(F15:F20) -> 336.58219 | G21: =SUM(G15:G20) -> 336.58219 | H21: =SUM(H15:H20) -> 336.58219 | I21: =SUM(I15:I20) -> 336.58219 | J21: =SUM(J15:J20) -> 336.58219 | K21: =SUM(K15:K20) -> 336.58219 | L21: =SUM(L15:L20) -> 336.58219 | M21: =SUM(M15:M20) -> 336.58219 | ... T21: =SUM(T15:T20) -> 336.58219

Sheet Summary
B2: Summary
D4: FY 1 | E4: FY 2 | F4: FY 3 | G4: FY 4 | H4: FY 5 | I4: FY 6 | J4: FY 7 | K4: FY 8 | L4: FY 9 | M4: FY 10 | N4: FY 11 | O4: FY 12 | P4: FY 13 | Q4: FY 14 | R4: FY 15
B5: Revenues | D5: =+'Income Statement'!BQ8 -> 1282307 | E5: =+'Income Statement'!BR8 -> 1307312.9 | F5: =+'Income Statement'!BS8 -> 1332825.8 | G5: =+'Income Statement'!BT8 -> 1358834.5 | H5: =+'Income Statement'!BU8 -> 1385378.2 | I5: =+'Income Statement'!BV8 -> 1412446.1 | J5: =+'Income Statement'!BW8 -> 1440047.9 | K5: =+'Income Statement'!BX8 -> 1468213 | ... R5: =+'Income Statement'!CE8 -> 1681759.6
B6: Direct Expenses | D6: =+'Income Statement'!BQ12 -> 133595.67 | E6: =+'Income Statement'!BR12 -> 133595.67 | F6: =+'Income Statement'!BS12 -> 133595.67 | G6: =+'Income Statement'!BT12 -> 133595.67 | H6: =+'Income Statement'!BU12 -> 133595.67 | I6: =+'Income Statement'!BV12 -> 133595.67 | J6: =+'Income Statement'!BW12 -> 133595.67 | K6: =+'Income Statement'!BX12 -> 133595.67 | ... R6: =+'Income Statement'!CE12 -> 133595.67
B7: Gross Profit | D7: =+D5-D6 -> 1148711.3 | E7: =+E5-E6 -> 1173717.2 | F7: =+F5-F6 -> 1199230.1 | G7: =+G5-G6 -> 1225238.8 | H7: =+H5-H6 -> 1251782.5 | I7: =+I5-I6 -> 1278850.5 | J7: =+J5-J6 -> 1306452.2 | K7: =+K5-K6 -> 1334617.3 | ... R7: =+R5-R6 -> 1548164
B8: Gross Profit (%) | D8: 0 | E8: 0 | F8: =+F7/F5 -> 0.89976509 | G8: =+G7/G5 -> 0.90168363 | H8: =+H7/H5 -> 0.90356736 | I8: =+I7/I5 -> 0.90541538 | J8: =+J7/J5 -> 0.90722831 | K8: =+K7/K5 -> 0.90900798 | L8: =+L7/L5 -> 0.91075365 | M8: =+M7/M5 -> 0.91246707 | ... R8: =+R7/R5 -> 0.92056197
B9: Other Expenses | D9: =+'Income Statement'!BQ22 -> 747960 | E9: =+'Income Statement'!BR22 -> 770296 | F9: =+'Income Statement'!BS22 -> 795815.6 | G9: =+'Income Statement'!BT22 -> 823447.16 | H9: =+'Income Statement'!BU22 -> 853841.88 | I9: =+'Income Statement'!BV22 -> 387676.06 | J9: =+'Income Statement'!BW22 -> 424453.67 | K9: =+'Income Statement'!BX22 -> 464909.04 | ... R9: =+'Income Statement'!CE22 -> 633880.08
B10: EBITDA | D10: =+D7-D9 -> 400751.3 | E10: =+E7-E9 -> 403421.24 | F10: =+F7-F9 -> 403414.5 | G10: =+G7-G9 -> 401791.65 | H10: =+H7-H9 -> 397940.63 | I10: =+I7-I9 -> 891174.4 | J10: =+J7-J9 -> 881998.52 | K10: =+K7-K9 -> 869708.31 | ... R10: =+R7-R9 -> 914283.87
B11: Depreciation | D11: =+'Income Statement'!BQ24 -> 26400 | E11: =+'Income Statement'!BR24 -> 27200 | F11: =+'Income Statement'!BS24 -> 27600 | G11: =+'Income Statement'!BT24 -> 27600 | H11: =+'Income Statement'!BU24 -> 27600 | I11: =+'Income Statement'!BV24 -> 27600 | J11: =+'Income Statement'!BW24 -> 27600 | K11: =+'Income Statement'!BX24 -> 27600 | ... R11: =+'Income Statement'!CE24 -> 27600
B12: Amortization | D12: =+'Income Statement'!BQ25 -> 0 | E12: =+'Income Statement'!BR25 -> 0 | F12: =+'Income Statement'!BS25 -> 0 | G12: =+'Income Statement'!BT25 -> 0 | H12: =+'Income Statement'!BU25 -> 0 | I12: =+'Income Statement'!BV25 -> 0 | J12: =+'Income Statement'!BW25 -> 0 | K12: =+'Income Statement'!BX25 -> 0 | ... R12: =+'Income Statement'!CE25 -> 0
B13: Preliminary Exp Written off | D13: =+'Income Statement'!BQ26 -> 0 | E13: =+'Income Statement'!BR26 -> 0 | F13: =+'Income Statement'!BS26 -> 0 | G13: =+'Income Statement'!BT26 -> 0 | H13: =+'Income Statement'!BU26 -> 0 | I13: =+'Income Statement'!BV26 -> 0 | J13: =+'Income Statement'!BW26 -> 0 | K13: =+'Income Statement'!BX26 -> 0 | ... R13: =+'Income Statement'!CE26 -> 0
B14: Interest Expense | D14: =+'Income Statement'!BQ28 -> 0 | E14: =+'Income Statement'!BR28 -> 0 | F14: =+'Income Statement'!BS28 -> 0 | G14: =+'Income Statement'!BT28 -> 0 | H14: =+'Income Statement'!BU28 -> 0 | I14: =+'Income Statement'!BV28 -> 0 | J14: =+'Income Statement'!BW28 -> 0 | K14: =+'Income Statement'!BX28 -> 0 | ... R14: =+'Income Statement'!CE28 -> 0
B15: Income Tax Expense | D15: =+'Income Statement'!BQ33 -> 63200 | E15: =+'Income Statement'!BR33 -> 63200 | F15: =+'Income Statement'!BS33 -> 60100 | G15: =+'Income Statement'!BT33 -> 59900 | H15: =+'Income Statement'!BU33 -> 59300 | I15: =+'Income Statement'!BV33 -> 138200 | J15: =+'Income Statement'!BW33 -> 136700 | K15: =+'Income Statement'!BX33 -> 134700 | ... R15: =+'Income Statement'!CE33 -> 141900 | S15: Cumulative 15 Years
B16: Net Income | D16: =+D10-SUM(D11:D15) -> 311151.3 | E16: =+E10-SUM(E11:E15) -> 313021.24 | F16: =+F10-SUM(F11:F15) -> 315714.5 | G16: =+G10-SUM(G11:G15) -> 314291.65 | H16: =+H10-SUM(H11:H15) -> 311040.63 | I16: =+I10-SUM(I11:I15) -> 725374.4 | J16: =+J10-SUM(J11:J15) -> 717698.52 | K16: =+K10-SUM(K11:K15) -> 707408.31 | ... R16: =+R10-SUM(R11:R15) -> 744783.87 | S16: =SUM(D16:R16) -> 8678246.7
B18: Grow | D18: 0 | E18: 0 | F18: =+F16/F5 -> 0.23687604 | G18: =+G16/G5 -> 0.23129502 | H18: =+H16/H5 -> 0.22451676 | I18: =+I16/I5 -> 0.51355898 | J18: =+J16/J5 -> 0.49838518 | K18: =+K16/K5 -> 0.48181585 | L18: =+L16/L5 -> 0.46369916 | M18: =+M16/M5 -> 0.44395355 | ... R18: =+R16/R5 -> 0.44285988
S19: =SUBTOTAL(9,S18:S18) -> 0

Sheet OPEX Drivers
B2: OPEX DRIVERS | H2: FY1 | L2: FY2 | P2: FY3 | T2: FY4 | X2: FY5 | AB2: FY6 | AF2: FY7 | AJ2: FY8 | AN2: FY9 | AR2: FY10 | AV2: FY11 | AZ2: FY12 | BD2: FY13 | BH2: FY14 | BL2: FY15
A3: No | B3: Item description | D3: Unit | E3: Items | F3: € € | G3: Total Cost € | H3: Q1 | I3: Q2 | J3: Q3 | K3: Q4 | L3: Q1 | M3: Q2 | N3: Q3 | O3: Q4 | P3: Q1 | Q3: Q2 | R3: Q3 | S3: Q4 | T3: Q1 | U3: Q2 | V3: Q3 | W3: Q4 | X3: Q1 | Y3: Q2 | Z3: Q3 | AA3: Q4 | AB3: Q1 | AC3: Q2 | AD3: Q3 | AE3: Q4 | AF3: Q1 | AG3: Q2 | AH3: Q3 | AI3: Q4 | AJ3: Q1 | AK3: Q2 | AL3: Q3 | AM3: Q4 | AN3: Q1 | AO3: Q2 | AP3: Q3 | AQ3: Q4 | AR3: Q1 | AS3: Q2 | AT3: Q3 | AU3: Q4 | AV3: Q1 | AW3: Q2 | AX3: Q3 | AY3: Q4 | AZ3: Q1 | BA3: Q2 | BB3: Q3 | BC3: Q4 | BD3: Q1 | BE3: Q2 | BF3: Q3 | BG3: Q4 | BH3: Q1 | BI3: Q2 | BJ3: Q3 | BK3: Q4 | BL3: Q1 | BM3: Q2 | BN3: Q3 | BO3: Q4
AG4: ='Surgeon Eggs'!I9 -> 1500000
B5: Fecundate eggs | C5: Yearly | D5: € | E5: =G5/15 -> 72000 | F5: 0.08 | G5: =SUM(I5:AU5)*F5 -> 1080000 | H5: ='Surgeon Eggs'!C9 -> 1500000 | I5: 0 | J5: 0 | K5: 0 | L5: ='Surgeon Eggs'!D9 -> 1500000 | M5: 0 | N5: 0 | O5: 0 | P5: ='Surgeon Eggs'!E9 -> 1500000 | Q5: 0 | R5: 0 | S5: 0 | T5: ='Surgeon Eggs'!F9 -> 1500000 | U5: 0 | V5: 0 | W5: 0 | X5: ='Surgeon Eggs'!G9 -> 1500000 | Y5: 0 | Z5: 0 | AA5: 0 | AB5: ='Surgeon Eggs'!H9 -> 1500000 | AC5: 0 | AD5: 0 | AE5: 0 | AF5: ='Surgeon Eggs'!I9 -> 1500000 | AG5: 0 | AH5: 0 | AI5: 0 | AJ5: ='Surgeon Eggs'!J9 -> 1500000 | AK5: 0 | AL5: 0 | AM5: 0 | AN5: ='Surgeon Eggs'!K9 -> 1500000 | AO5: 0 | AP5: 0 | AQ5: 0 | AR5: ='Surgeon Eggs'!L9 -> 1500000 | AS5: 0 | AT5: 0 | AU5: 0 | AV5: ='Surgeon Eggs'!M9 -> 1500000 | AW5: 0 | AX5: 0 | AY5: 0 | AZ5: ='Surgeon Eggs'!N9 -> 1500000 | BA5: 0 | BB5: 0 | BC5: 0 | BD5: ='Surgeon Eggs'!O9 -> 1500000 | BE5: 0 | BF5: 0 | BG5: 0 | BH5: ='Surgeon Eggs'!P9 -> 1500000 | BI5: 0 | BJ5: 0 | BK5: 0 | BL5: ='Surgeon Eggs'!Q9 -> 1500000 | BM5: 0 | BN5: 0 | BO5: 0
B6: Fish food | C6: Yearly | D6: € | E6: =G6/15 -> 25186.439 | F6: 1 | G6: =SUM(H6:BO6) -> 377796.59 | H6: ='Feed Dinamics'!C9 -> 25186.439 | I6: 0 | J6: 0 | K6: 0 | L6: ='Feed Dinamics'!D9 -> 25186.439 | M6: 0 | N6: 0 | O6: 0 | P6: ='Feed Dinamics'!E9 -> 25186.439 | Q6: 0 | R6: 0 | S6: 0 | T6: ='Feed Dinamics'!F9 -> 25186.439 | U6: 0 | V6: 0 | W6: 0 | X6: ='Feed Dinamics'!G9 -> 25186.439 | Y6: 0 | Z6: 0 | AA6: 0 | AB6: ='Feed Dinamics'!H9 -> 25186.439 | AC6: 0 | AD6: 0 | AE6: 0 | AF6: ='Feed Dinamics'!I9 -> 25186.439 | AG6: 0 | AH6: 0 | AI6: 0 | AJ6: ='Feed Dinamics'!J9 -> 25186.439 | AK6: 0 | AL6: 0 | AM6: 0 | AN6: ='Feed Dinamics'!K9 -> 25186.439 | AO6: 0 | AP6: 0 | AQ6: 0 | AR6: ='Feed Dinamics'!L9 -> 25186.439 | AS6: 0 | AT6: 0 | AU6: 0 | AV6: ='Feed Dinamics'!M9 -> 25186.439 | AW6: 0 | AX6: 0 | AY6: 0 | AZ6: ='Feed Dinamics'!N9 -> 25186.439 | BA6: 0 | BB6: 0 | BC6: 0 | BD6: ='Feed Dinamics'!O9 -> 25186.439 | BE6: 0 | BF6: 0 | BG6: 0 | BH6: ='Feed Dinamics'!P9 -> 25186.439 | BI6: 0 | BJ6: 0 | BK6: 0 | BL6: ='Feed Dinamics'!Q9 -> 25186.439 | BM6: 0 | BN6: 0 | BO6: 0
B7: Seds Vegetable | C7: Yearly | D7: € | E7: =G7/F7 -> 720000 | F7: 0.025 | G7: =SUM(H7:BO7) -> 18000 | H7: 300 | I7: 300 | J7: 300 | K7: 300 | L7: 300 | M7: 300 | N7: 300 | O7: 300 | P7: 300 | Q7: 300 | R7: 300 | S7: 300 | T7: 300 | U7: 300 | V7: 300 | W7: 300 | X7: 300 | Y7: 300 | Z7: 300 | AA7: 300 | AB7: 300 | AC7: 300 | AD7: 300 | AE7: 300 | AF7: 300 | AG7: 300 | AH7: 300 | AI7: 300 | AJ7: 300 | AK7: 300 | AL7: 300 | AM7: 300 | AN7: 300 | AO7: 300 | AP7: 300 | AQ7: 300 | AR7: 300 | AS7: 300 | AT7: 300 | AU7: 300 | AV7: 300 | AW7: 300 | AX7: 300 | AY7: 300 | AZ7: 300 | BA7: 300 | BB7: 300 | BC7: 300 | BD7: 300 | BE7: 300 | BF7: 300 | BG7: 300 | BH7: 300 | BI7: 300 | BJ7: 300 | BK7: 300 | BL7: 300 | BM7: 300 | BN7: 300 | BO7: 300
B8: RENT, UTILITY and OTHER | C8: monthly
B9: Utility Power | D9: KWh | E9: =SUM(H9:AU9) -> 1206299 | F9: 0.106 | G9: =E9*F9 -> 127867.69 | H9: ='Power util.'!I30 -> 92792.229 | I9: ='Power util.'!J30 -> 0 | J9: ='Power util.'!K30 -> 0 | K9: ='Power util.'!L30 -> 27837.669 | L9: ='Power util.'!M30 -> 92792.229 | M9: ='Power util.'!N30 -> 0 | N9: ='Power util.'!O30 -> 0 | O9: ='Power util.'!P30 -> 27837.669 | ... BO9: ='Power util.'!BP30 -> 27837.669
B10: Accounting and payroll services | D10: Q | E10: =SUM(H10:BO10) -> 60 | F10: 300 | G10: =E10*F10 -> 18000 | H10: 1 | I10: 1 | J10: 1 | K10: 1 | L10: 1 | M10: 1 | N10: 1 | O10: 1 | P10: 1 | Q10: 1 | R10: 1 | S10: 1 | T10: 1 | U10: 1 | V10: 1 | W10: 1 | X10: 1 | Y10: 1 | Z10: 1 | AA10: 1 | AB10: 1 | AC10: 1 | AD10: 1 | AE10: 1 | AF10: 1 | AG10: 1 | AH10: 1 | AI10: 1 | AJ10: 1 | AK10: 1 | AL10: 1 | AM10: 1 | AN10: 1 | AO10: 1 | AP10: 1 | AQ10: 1 | AR10: 1 | AS10: 1 | AT10: 1 | AU10: 1 | AV10: 1 | AW10: 1 | AX10: 1 | AY10: 1 | AZ10: 1 | BA10: 1 | BB10: 1 | BC10: 1 | BD10: 1 | BE10: 1 | BF10: 1 | BG10: 1 | BH10: 1 | BI10: 1 | BJ10: 1 | BK10: 1 | BL10: 1 | BM10: 1 | BN10: 1 | BO10: 1
B11: Board Meetings AGA | E11: =SUM(H11:BO11) -> 16 | F11: 500 | G11: =E11*F11 -> 8000 | H11: 1 | I11: 0 | J11: 0 | K11: 1 | L11: 0 | M11: 0 | N11: 0 | O11: 1 | P11: 0 | Q11: 0 | R11: 0 | S11: 1 | T11: 0 | U11: 0 | V11: 0 | W11: 1 | X11: 0 | Y11: 0 | Z11: 0 | AA11: 1 | AB11: 0 | AC11: 0 | AD11: 0 | AE11: 1 | AF11: 0 | AG11: 0 | AH11: 0 | AI11: 1 | AJ11: 0 | AK11: 0 | AL11: 0 | AM11: 1 | AN11: 0 | AO11: 0 | AP11: 0 | AQ11: 1 | AR11: 0 | AS11: 0 | AT11: 0 | AU11: 1 | AV11: 0 | AW11: 0 | AX11: 0 | AY11: 1 | AZ11: 0 | BA11: 0 | BB11: 0 | BC11: 1 | BD11: 0 | BE11: 0 | BF11: 0 | BG11: 1 | BH11: 0 | BI11: 0 | BJ11: 0 | BK11: 1 | BL11: 0 | BM11: 0 | BN11: 0 | BO11: 1
B12: Phytosanitary testing | D12: Q | E12: =SUM(H12:AU12) -> 20 | F12: 50 | G12: =E12*F12 -> 1000 | H12: 1 | I12: 0 | J12: 0 | K12: 1 | L12: 1 | M12: 0 | N12: 0 | O12: 1 | P12: 1 | Q12: 0 | R12: 0 | S12: 1 | T12: 1 | U12: 0 | V12: 0 | W12: 1 | X12: 1 | Y12: 0 | Z12: 0 | AA12: 1 | AB12: 1 | AC12: 0 | AD12: 0 | AE12: 1 | AF12: 1 | AG12: 0 | AH12: 0 | AI12: 1 | AJ12: 1 | AK12: 0 | AL12: 0 | AM12: 1 | AN12: 1 | AO12: 0 | AP12: 0 | AQ12: 1 | AR12: 1 | AS12: 0 | AT12: 0 | AU12: 1 | AV12: 1 | AW12: 0 | AX12: 0 | AY12: 1 | AZ12: 1 | BA12: 0 | BB12: 0 | BC12: 1 | BD12: 1 | BE12: 0 | BF12: 0 | BG12: 1 | BH12: 1 | BI12: 0 | BJ12: 0 | BK12: 1 | BL12: 1 | BM12: 0 | BN12: 0 | BO12: 1
B13: Electronic RFID tags | D13: pcs | E13: =SUM(H13:AU13) -> 0 | F13: 1 | G13: =E13*F13 -> 0 | H13: 0 | I13: 0 | J13: 0 | K13: 0 | L13: 0 | M13: 0 | N13: 0 | O13: 0 | P13: 0 | Q13: 0 | R13: 0 | S13: 0 | T13: 0 | U13: 0 | V13: 0 | W13: 0 | X13: 0 | Y13: 0 | Z13: 0 | AA13: 0 | AB13: 0 | AC13: 0 | AD13: 0 | AE13: 0 | AF13: 0 | AG13: 0 | AH13: 0 | AI13: 0 | AJ13: 0 | AK13: 0 | AL13: 0 | AM13: 0 | AN13: 0 | AO13: 0 | AP13: 0 | AQ13: 0 | AR13: 0 | AS13: 0 | AT13: 0 | AU13: 0 | AV13: 0 | AW13: 0 | AX13: 0 | AY13: 0 | AZ13: 0 | BA13: 0 | BB13: 0 | BC13: 0 | BD13: 0 | BE13: 0 | BF13: 0 | BG13: 0 | BH13: 0 | BI13: 0 | BJ13: 0 | BK13: 0 | BL13: 0 | BM13: 0 | BN13: 0 | BO13: 0
B14: Scientific community membership | E14: =SUM(H14:BO14) -> 15 | F14: 500 | G14: =E14*F14 -> 7500 | H14: 0 | I14: 0 | J14: 0 | K14: 1 | L14: 0 | M14: 0 | N14: 0 | O14: 1 | P14: 0 | Q14: 0 | R14: 0 | S14: 1 | T14: 0 | U14: 0 | V14: 0 | W14: 1 | X14: 0 | Y14: 0 | Z14: 0 | AA14: 1 | AB14: 0 | AC14: 0 | AD14: 0 | AE14: 1 | AF14: 0 | AG14: 0 | AH14: 0 | AI14: 1 | AJ14: 0 | AK14: 0 | AL14: 0 | AM14: 1 | AN14: 0 | AO14: 0 | AP14: 0 | AQ14: 1 | AR14: 0 | AS14: 0 | AT14: 0 | AU14: 1 | AV14: 0 | AW14: 0 | AX14: 0 | AY14: 1 | AZ14: 0 | BA14: 0 | BB14: 0 | BC14: 1 | BD14: 0 | BE14: 0 | BF14: 0 | BG14: 1 | BH14: 0 | BI14: 0 | BJ14: 0 | BK14: 1 | BL14: 0 | BM14: 0 | BN14: 0 | BO14: 1
B15: Maintenance spare parts | C15: equiv 2pump/year | D15: Y | E15: =SUM(H15:BO15) -> 13 | F15: 400 | G15: =E15*F15 -> 5200 | H15: 0 | I15: 0 | J15: 0 | K15: 0 | L15: 0 | M15: 0 | N15: 0 | O15: 0 | P15: 0 | Q15: 0 | R15: 0 | S15: 1 | T15: 0 | U15: 0 | V15: 0 | W15: 1 | X15: 0 | Y15: 0 | Z15: 0 | AA15: 1 | AB15: 0 | AC15: 0 | AD15: 0 | AE15: 1 | AF15: 0 | AG15: 0 | AH15: 0 | AI15: 1 | AJ15: 0 | AK15: 0 | AL15: 0 | AM15: 1 | AN15: 0 | AO15: 0 | AP15: 0 | AQ15: 1 | AR15: 0 | AS15: 0 | AT15: 0 | AU15: 1 | AV15: 0 | AW15: 0 | AX15: 0 | AY15: 1 | AZ15: 0 | BA15: 0 | BB15: 0 | BC15: 1 | BD15: 0 | BE15: 0 | BF15: 0 | BG15: 1 | BH15: 0 | BI15: 0 | BJ15: 0 | BK15: 1 | BL15: 0 | BM15: 0 | BN15: 0 | BO15: 1
B16: Cleaning / disinfection products | D16: Q | E16: =SUM(H16:BO16) -> 15 | F16: 200 | G16: =E16*F16 -> 3000 | H16: 1 | L16: 1 | P16: 1 | T16: 1 | X16: 1 | AB16: 1 | AF16: 1 | AJ16: 1 | AN16: 1 | AR16: 1 | AV16: 1 | AZ16: 1 | BD16: 1 | BH16: 1 | BL16: 1
B17: Individual equipment | D17: pax*y | E17: =SUM(H17:BO17) -> 0 | F17: 200 | G17: =E17*F17 -> 0 | H17: 0 | L17: 0 | P17: 0 | T17: 0 | X17: 0 | AB17: 0 | AF17: 0 | AJ17: 0 | AN17: 0 | AR17: 0 | AV17: 0 | AZ17: 0 | BD17: 0 | BH17: 0 | BL17: 0
B18: Security | C18: 400 | D18: Q | E18: =SUM(H18:BO18) -> 15 | F18: =C18*3 -> 1200 | G18: =E18*F18 -> 18000 | H18: 1 | L18: 1 | P18: 1 | T18: 1 | X18: 1 | AB18: 1 | AF18: 1 | AJ18: 1 | AN18: 1 | AR18: 1 | AV18: 1 | AZ18: 1 | BD18: 1 | BH18: 1 | BL18: 1
B19: Property tax (buildings) 1.5% of building CAPEX | D19: Y | E19: =SUM(H19:BO19) -> 0 | F19: =('CAPEX Drivers'!E16/100)*0.25 -> 917.75305 | G19: =E19*F19 -> 0 | H19: 0 | L19: 0 | P19: 0 | T19: 0 | X19: 0 | AB19: 0 | AF19: 0 | AJ19: 0 | AN19: 0 | AR19: 0 | AV19: 0 | AZ19: 0 | BD19: 0 | BH19: 0 | BL19: 0
B20: Insurance Facilities 0.5% of CAPEX | C20: 0.5 | D20: Y | E20: =SUM(H20:BO20) -> 0 | F20: ='CAPEX Drivers'!F14/100*C20 -> 2697.4959 | G20: =E20*F20 -> 0 | H20: 0 | L20: 0 | P20: 0 | T20: 0 | X20: 0 | AB20: 0 | AF20: 0 | AJ20: 0 | AN20: 0 | AR20: 0 | AV20: 0 | AZ20: 0 | BD20: 0 | BH20: 0 | BL20: 0
B21: Vehicle fuel (qty 2 vehicles) | C21: 500 | D21: Q | E21: =SUM(H21:BO21) -> 15 | F21: =C21*3 -> 1500 | G21: =E21*F21 -> 22500 | H21: 1 | L21: 1 | P21: 1 | T21: 1 | X21: 1 | AB21: 1 | AF21: 1 | AJ21: 1 | AN21: 1 | AR21: 1 | AV21: 1 | AZ21: 1 | BD21: 1 | BH21: 1 | BL21: 1
B22: Telecom services | C22: 200 | D22: Q | E22: =SUM(H22:BO22) -> 15 | F22: =C22*3 -> 600 | G22: =E22*F22 -> 9000 | H22: 1 | L22: 1 | P22: 1 | T22: 1 | X22: 1 | AB22: 1 | AF22: 1 | AJ22: 1 | AN22: 1 | AR22: 1 | AV22: 1 | AZ22: 1 | BD22: 1 | BH22: 1 | BL22: 1
B23: R&D consumables | C23: 300 | E23: =SUM(H23:BO23) -> 15 | F23: =C23*3 -> 900 | G23: =E23*F23 -> 13500 | H23: 1 | L23: 1 | P23: 1 | T23: 1 | X23: 1 | AB23: 1 | AF23: 1 | AJ23: 1 | AN23: 1 | AR23: 1 | AV23: 1 | AZ23: 1 | BD23: 1 | BH23: 1 | BL23: 1
B24: Salary net | C24: monthly | F24: quarterly
B25: CEO | C25: 4500 | D25: € | E25: =SUM(H25:BO25) -> 60 | F25: =C25*3 -> 13500 | G25: =E25*F25 -> 810000 | H25: 1 | I25: 1 | J25: 1 | K25: 1 | L25: 1 | M25: 1 | N25: 1 | O25: 1 | P25: 1 | Q25: 1 | R25: 1 | S25: 1 | T25: 1 | U25: 1 | V25: 1 | W25: 1 | X25: 1 | Y25: 1 | Z25: 1 | AA25: 1 | AB25: 1 | AC25: 1 | AD25: 1 | AE25: 1 | AF25: 1 | AG25: 1 | AH25: 1 | AI25: 1 | AJ25: 1 | AK25: 1 | AL25: 1 | AM25: 1 | AN25: 1 | AO25: 1 | AP25: 1 | AQ25: 1 | AR25: 1 | AS25: 1 | AT25: 1 | AU25: 1 | AV25: 1 | AW25: 1 | AX25: 1 | AY25: 1 | AZ25: 1 | BA25: 1 | BB25: 1 | BC25: 1 | BD25: 1 | BE25: 1 | BF25: 1 | BG25: 1 | BH25: 1 | BI25: 1 | BJ25: 1 | BK25: 1 | BL25: 1 | BM25: 1 | BN25: 1 | BO25: 1
B26: Sales & Marketing Manager | C26: 3000 | D26: € | E26: =SUM(H26:BO26) -> 60 | F26: =C26*3 -> 9000 | G26: =E26*F26 -> 540000 | H26: 1 | I26: 1 | J26: 1 | K26: 1 | L26: 1 | M26: 1 | N26: 1 | O26: 1 | P26: 1 | Q26: 1 | R26: 1 | S26: 1 | T26: 1 | U26: 1 | V26: 1 | W26: 1 | X26: 1 | Y26: 1 | Z26: 1 | AA26: 1 | AB26: 1 | AC26: 1 | AD26: 1 | AE26: 1 | AF26: 1 | AG26: 1 | AH26: 1 | AI26: 1 | AJ26: 1 | AK26: 1 | AL26: 1 | AM26: 1 | AN26: 1 | AO26: 1 | AP26: 1 | AQ26: 1 | AR26: 1 | AS26: 1 | AT26: 1 | AU26: 1 | AV26: 1 | AW26: 1 | AX26: 1 | AY26: 1 | AZ26: 1 | BA26: 1 | BB26: 1 | BC26: 1 | BD26: 1 | BE26: 1 | BF26: 1 | BG26: 1 | BH26: 1 | BI26: 1 | BJ26: 1 | BK26: 1 | BL26: 1 | BM26: 1 | BN26: 1 | BO26: 1
B27: Chief Technology Officer | C27: 1200 | D27: € | E27: =SUM(H27:BO27) -> 15 | F27: =C27*3 -> 3600 | G27: =E27*F27 -> 54000 | H27: 1 | I27: 0 | J27: 0 | K27: 0 | L27: 1 | M27: 0 | N27: 0 | O27: 0 | P27: 1 | Q27: 0 | R27: 0 | S27: 0 | T27: 1 | U27: 0 | V27: 0 | W27: 0 | X27: 1 | Y27: 0 | Z27: 0 | AA27: 0 | AB27: 1 | AC27: 0 | AD27: 0 | AE27: 0 | AF27: 1 | AG27: 0 | AH27: 0 | AI27: 0 | AJ27: 1 | AK27: 0 | AL27: 0 | AM27: 0 | AN27: 1 | AO27: 0 | AP27: 0 | AQ27: 0 | AR27: 1 | AS27: 0 | AT27: 0 | AU27: 0 | AV27: 1 | AW27: 0 | AX27: 0 | AY27: 0 | AZ27: 1 | BA27: 0 | BB27: 0 | BC27: 0 | BD27: 1 | BE27: 0 | BF27: 0 | BG27: 0 | BH27: 1 | BI27: 0 | BJ27: 0 | BK27: 0 | BL27: 1 | BM27: 0 | BN27: 0 | BO27: 0
B28: Manager Vet | C28: 600 | D28: € | E28: =SUM(H28:BO28) -> 15 | F28: =C28*3 -> 1800 | G28: =E28*F28 -> 27000 | H28: 1 | I28: 0 | J28: 0 | K28: 0 | L28: 1 | M28: 0 | N28: 0 | O28: 0 | P28: 1 | Q28: 0 | R28: 0 | S28: 0 | T28: 1 | U28: 0 | V28: 0 | W28: 0 | X28: 1 | Y28: 0 | Z28: 0 | AA28: 0 | AB28: 1 | AC28: 0 | AD28: 0 | AE28: 0 | AF28: 1 | AG28: 0 | AH28: 0 | AI28: 0 | AJ28: 1 | AK28: 0 | AL28: 0 | AM28: 0 | AN28: 1 | AO28: 0 | AP28: 0 | AQ28: 0 | AR28: 1 | AS28: 0 | AT28: 0 | AU28: 0 | AV28: 1 | AW28: 0 | AX28: 0 | AY28: 0 | AZ28: 1 | BA28: 0 | BB28: 0 | BC28: 0 | BD28: 1 | BE28: 0 | BF28: 0 | BG28: 0 | BH28: 1 | BI28: 0 | BJ28: 0 | BK28: 0 | BL28: 1 | BM28: 0 | BN28: 0 | BO28: 0
B29: Staff Role #1 Dispecer Tech Operator | C29: 800 | D29: € | E29: =SUM(H29:BO29) -> 90 | F29: =C29*3 -> 2400 | G29: =E29*F29 -> 216000 | H29: 4 | I29: 0 | J29: 0 | K29: 2 | L29: 4 | M29: 0 | N29: 0 | O29: 2 | P29: 4 | Q29: 0 | R29: 0 | S29: 2 | T29: 4 | U29: 0 | V29: 0 | W29: 2 | X29: 4 | Y29: 0 | Z29: 0 | AA29: 2 | AB29: 4 | AC29: 0 | AD29: 0 | AE29: 2 | AF29: 4 | AG29: 0 | AH29: 0 | AI29: 2 | AJ29: 4 | AK29: 0 | AL29: 0 | AM29: 2 | AN29: 4 | AO29: 0 | AP29: 0 | AQ29: 2 | AR29: 4 | AS29: 0 | AT29: 0 | AU29: 2 | AV29: 4 | AW29: 0 | AX29: 0 | AY29: 2 | AZ29: 4 | BA29: 0 | BB29: 0 | BC29: 2 | BD29: 4 | BE29: 0 | BF29: 0 | BG29: 2 | BH29: 4 | BI29: 0 | BJ29: 0 | BK29: 2 | BL29: 4 | BM29: 0 | BN29: 0 | BO29: 2
B30: Staff Role #2 Aquacultor | C30: 700 | D30: € | E30: =SUM(H30:BO30) -> 30 | F30: =C30*3 -> 2100 | G30: =E30*F30 -> 63000 | H30: 2 | I30: 0 | J30: 0 | K30: 0 | L30: 2 | M30: 0 | N30: 0 | O30: 0 | P30: 2 | Q30: 0 | R30: 0 | S30: 0 | T30: 2 | U30: 0 | V30: 0 | W30: 0 | X30: 2 | Y30: 0 | Z30: 0 | AA30: 0 | AB30: 2 | AC30: 0 | AD30: 0 | AE30: 0 | AF30: 2 | AG30: 0 | AH30: 0 | AI30: 0 | AJ30: 2 | AK30: 0 | AL30: 0 | AM30: 0 | AN30: 2 | AO30: 0 | AP30: 0 | AQ30: 0 | AR30: 2 | AS30: 0 | AT30: 0 | AU30: 0 | AV30: 2 | AW30: 0 | AX30: 0 | AY30: 0 | AZ30: 2 | BA30: 0 | BB30: 0 | BC30: 0 | BD30: 2 | BE30: 0 | BF30: 0 | BG30: 0 | BH30: 2 | BI30: 0 | BJ30: 0 | BK30: 0 | BL30: 2 | BM30: 0 | BN30: 0 | BO30: 0
B31: Staff Role #3 GreenHouse Workers | C31: 700 | D31: € | E31: =SUM(H31:BO31) -> 60 | F31: =C31*3 -> 2100 | G31: =E31*F31 -> 126000 | H31: 2 | I31: 0 | J31: 0 | K31: 2 | L31: 2 | M31: 0 | N31: 0 | O31: 2 | P31: 2 | Q31: 0 | R31: 0 | S31: 2 | T31: 2 | U31: 0 | V31: 0 | W31: 2 | X31: 2 | Y31: 0 | Z31: 0 | AA31: 2 | AB31: 2 | AC31: 0 | AD31: 0 | AE31: 2 | AF31: 2 | AG31: 0 | AH31: 0 | AI31: 2 | AJ31: 2 | AK31: 0 | AL31: 0 | AM31: 2 | AN31: 2 | AO31: 0 | AP31: 0 | AQ31: 2 | AR31: 2 | AS31: 0 | AT31: 0 | AU31: 2 | AV31: 2 | AW31: 0 | AX31: 0 | AY31: 2 | AZ31: 2 | BA31: 0 | BB31: 0 | BC31: 2 | BD31: 2 | BE31: 0 | BF31: 0 | BG31: 2 | BH31: 2 | BI31: 0 | BJ31: 0 | BK31: 2 | BL31: 2 | BM31: 0 | BN31: 0 | BO31: 2
B32: Staff Role #4 Outdoor Workers | C32: 400 | D32: € | E32: =SUM(H32:AU32) -> 80 | F32: =C32*3 -> 1200 | G32: =E32*F32 -> 96000 | H32: 2 | I32: 2 | J32: 2 | K32: 2 | L32: 2 | M32: 2 | N32: 2 | O32: 2 | P32: 2 | Q32: 2 | R32: 2 | S32: 2 | T32: 2 | U32: 2 | V32: 2 | W32: 2 | X32: 2 | Y32: 2 | Z32: 2 | AA32: 2 | AB32: 2 | AC32: 2 | AD32: 2 | AE32: 2 | AF32: 2 | AG32: 2 | AH32: 2 | AI32: 2 | AJ32: 2 | AK32: 2 | AL32: 2 | AM32: 2 | AN32: 2 | AO32: 2 | AP32: 2 | AQ32: 2 | AR32: 2 | AS32: 2 | AT32: 2 | AU32: 2 | AV32: 2 | AW32: 2 | AX32: 2 | AY32: 2 | AZ32: 2 | BA32: 2 | BB32: 2 | BC32: 2 | BD32: 2 | BE32: 2 | BF32: 2 | BG32: 2 | BH32: 2 | BI32: 2 | BJ32: 2 | BK32: 2 | BL32: 2 | BM32: 2 | BN32: 2 | BO32: 2
B33: Marketing & sales
B34: Marketing & sales | H34: =Marketing!J35 -> 124900 | I34: =Marketing!K35 -> 124900 | J34: =Marketing!L35 -> 124900 | K34: =Marketing!M35 -> 124900 | L34: =Marketing!N35 -> 124900 | M34: =Marketing!O35 -> 124900 | N34: =Marketing!P35 -> 124900 | O34: =Marketing!Q35 -> 124900 | ... BO34: =Marketing!BQ35 -> 0
B36: TOTAL w/o VAT | G36: =SUM(H36:BO36) -> 6972248.1 | H36: =SUMPRODUCT($F5:$F32,H5:H32)+H7+H34 -> 333779.92 | I36: =SUMPRODUCT($F5:$F32,I5:I32)+I7+I34 -> 150407.5 | J36: =SUMPRODUCT($F5:$F32,J5:J32)+J7+J34 -> 150407.5 | K36: =SUMPRODUCT($F5:$F32,K5:K32)+K7+K34 -> 163408.29 | L36: =SUMPRODUCT($F5:$F32,L5:L32)+L7+L34 -> 333279.92 | M36: =SUMPRODUCT($F5:$F32,M5:M32)+M7+M34 -> 150407.5 | N36: =SUMPRODUCT($F5:$F32,N5:N32)+N7+N34 -> 150407.5 | O36: =SUMPRODUCT($F5:$F32,O5:O32)+O7+O34 -> 163408.29 | ... BO36: =SUMPRODUCT($F5:$F32,BO5:BO32)+BO7+BO34 -> 38908.293
B39: RENT, UTILITY and OTHER | H39: =SUMPRODUCT($F9:$F23,H9:H23) -> 15085.976 | I39: =SUMPRODUCT($F9:$F23,I9:I23) -> 300 | J39: =SUMPRODUCT($F9:$F23,J9:J23) -> 300 | K39: =SUMPRODUCT($F9:$F23,K9:K23) -> 4300.7929 | L39: =SUMPRODUCT($F9:$F23,L9:L23) -> 14585.976 | M39: =SUMPRODUCT($F9:$F23,M9:M23) -> 300 | N39: =SUMPRODUCT($F9:$F23,N9:N23) -> 300 | O39: =SUMPRODUCT($F9:$F23,O9:O23) -> 4300.7929 | ... BO39: =SUMPRODUCT($F9:$F23,BO9:BO23) -> 4700.7929
B41: Q Total Salary | H41: =SUMPRODUCT($F25:$F32,H25:H32) -> 48300 | I41: =SUMPRODUCT($F25:$F32,I25:I32) -> 24900 | J41: =SUMPRODUCT($F25:$F32,J25:J32) -> 24900 | K41: =SUMPRODUCT($F25:$F32,K25:K32) -> 33900 | L41: =SUMPRODUCT($F25:$F32,L25:L32) -> 48300 | M41: =SUMPRODUCT($F25:$F32,M25:M32) -> 24900 | N41: =SUMPRODUCT($F25:$F32,N25:N32) -> 24900 | O41: =SUMPRODUCT($F25:$F32,O25:O32) -> 33900 | ... BO41: =SUMPRODUCT($F25:$F32,BO25:BO32) -> 33900
B42: Salary 15 years | G42: =SUM(I42:BO42) -> 1980000 | J42: Salary 1 year = | K42: =SUM(H41:K41) -> 132000 | N42: Salary 2 year = | O42: =SUM(L41:O41) -> 132000 | R42: Salary 3 year = | S42: =SUM(P41:S41) -> 132000 | V42: Salary 4 year = | W42: =SUM(T41:W41) -> 132000 | Z42: Salary 5 year = | AA42: =SUM(X41:AA41) -> 132000 | AD42: Salary 6 year = | AE42: =SUM(AB41:AE41) -> 132000 | AH42: Salary 7 year = | AI42: =SUM(AF41:AI41) -> 132000 | AL42: Salary 8 year = | AM42: =SUM(AJ41:AM41) -> 132000 | AP42: Salary 9 year = | AQ42: =SUM(AN41:AQ41) -> 132000 | AT42: Salary 10 year = | AU42: =SUM(AR41:AU41) -> 132000 | AX42: Salary 11 year = | AY42: =SUM(AV41:AY41) -> 132000 | BB42: Salary 11 year = | BC42: =SUM(AZ41:BC41) -> 132000 | BF42: Salary 13 year = | BG42: =SUM(BD41:BG41) -> 132000 | BJ42: Salary 14 year = | BK42: =SUM(BH41:BK41) -> 132000 | BN42: Salary 15 year = | BO42: =SUM(BL41:BO41) -> 132000
B44: Salary Managers | G44: =SUM(H44:BO44) -> 1404000 | H44: =H41-H45 -> 26100 | I44: =I41-I45 -> 22500 | J44: =J41-J45 -> 22500 | K44: =K41-K45 -> 22500 | L44: =L41-L45 -> 26100 | M44: =M41-M45 -> 22500 | N44: =N41-N45 -> 22500 | O44: =O41-O45 -> 22500 | ... BO44: =BO41-BO45 -> 22500
B45: Salary staff + Vet | G45: =SUM(H45:BO45) -> 576000 | H45: =SUMPRODUCT($F29:$F32,H29:H32)+SUMPRODUCT($F28,H28) -> 22200 | I45: =SUMPRODUCT($F29:$F32,I29:I32)+SUMPRODUCT($F28,I28) -> 2400 | J45: =SUMPRODUCT($F29:$F32,J29:J32)+SUMPRODUCT($F28,J28) -> 2400 | K45: =SUMPRODUCT($F29:$F32,K29:K32)+SUMPRODUCT($F28,K28) -> 11400 | L45: =SUMPRODUCT($F29:$F32,L29:L32)+SUMPRODUCT($F28,L28) -> 22200 | M45: =SUMPRODUCT($F29:$F32,M29:M32)+SUMPRODUCT($F28,M28) -> 2400 | N45: =SUMPRODUCT($F29:$F32,N29:N32)+SUMPRODUCT($F28,N28) -> 2400 | O45: =SUMPRODUCT($F29:$F32,O29:O32)+SUMPRODUCT($F28,O28) -> 11400 | ... BO45: =SUMPRODUCT($F29:$F32,BO29:BO32)+SUMPRODUCT($F28,BO28) -> 11400

Sheet CAPEX Drivers
B2: CAPEX DRIVERS | G2: FY1 | K2: FY2 | O2: FY3 | S2: FY4 | W2: FY5 | AA2: FY6 | AE2: FY7 | AI2: FY8 | AM2: FY9 | AQ2: FY10 | AU2: FY11 | AY2: FY12 | BC2: FY13 | BG2: FY14 | BK2: FY15
B3: Remarks | C3: Item description | D3: Total Qty | E3: Unit cost € | F3: Total Cost | G3: Q1 | H3: Q2 | I3: Q3 | J3: Q4 | K3: Q1 | L3: Q2 | M3: Q3 | N3: Q4 | O3: Q1 | P3: Q2 | Q3: Q3 | R3: Q4 | S3: Q1 | T3: Q2 | U3: Q3 | V3: Q4 | W3: Q1 | X3: Q2 | Y3: Q3 | Z3: Q4 | AA3: Q1 | AB3: Q2 | AC3: Q3 | AD3: Q4 | AE3: Q1 | AF3: Q2 | AG3: Q3 | AH3: Q4 | AI3: Q1 | AJ3: Q2 | AK3: Q3 | AL3: Q4 | AM3: Q1 | AN3: Q2 | AO3: Q3 | AP3: Q4 | AQ3: Q1 | AR3: Q2 | AS3: Q3 | AT3: Q4 | AU3: Q1 | AV3: Q2 | AW3: Q3 | AX3: Q4 | AY3: Q1 | AZ3: Q2 | BA3: Q3 | BB3: Q4 | BC3: Q1 | BD3: Q2 | BE3: Q3 | BF3: Q4 | BG3: Q1 | BH3: Q2 | BI3: Q3 | BJ3: Q4 | BK3: Q1 | BL3: Q2 | BM3: Q3 | BN3: Q4
B4: Infrastructure | C4: ='Farm Overhaul'!B2 -> Farm Platform | D4: =SUM(G4:BN4) -> 1 | E4: ='Farm Overhaul'!I24 -> 86021.744 | F4: =D4*E4 -> 86021.744 | G4: 1
B5: Infrastructure | C5: ='Farm Overhaul'!B27 -> Reproduction & Aquaponics Unit | D5: 1 | E5: ='Farm Overhaul'!I47 -> 281079.48 | F5: =D5*E5 -> 281079.48 | G5: 0.2 | H5: 0.2 | I5: 0.2 | J5: 0.2 | K5: 0.1 | L5: 0.1
B6: Technology | C6: ='Farm Overhaul'!B50 -> Lab equipment | D6: =SUM(G6:BN6) -> 1 | E6: ='Farm Overhaul'!I66 -> 20764.995 | F6: =D6*E6 -> 20764.995 | H6: 1
B7: Infrastructure | C7: ='Farm Overhaul'!B69 -> Control Room | D7: =SUM(G7:BN7) -> 1 | E7: ='Farm Overhaul'!I79 -> 3808.5687 | F7: =D7*E7 -> 3808.5687 | H7: 1
B8: Infrastructure | C8: ='Farm Overhaul'!B82 -> IT Infrastructure | D8: =SUM(G8:BN8) -> 1 | E8: ='Farm Overhaul'!I88 -> 2324.4014 | F8: =D8*E8 -> 2324.4014 | H8: 1
C9: OTHER Items w/o breakdown
B10: Echipment | C10: Hidrobion | D10: =SUM(G10:BN10) -> 1 | E10: 18500 | F10: =D10*E10 -> 18500 | H10: 1
B11: Echipment | C11: Utility Car | D11: =SUM(G11:BN11) -> 2 | E11: 16500 | F11: =D11*E11 -> 33000 | G11: 2
B12: Transport | C12: AutoVan 7,5 T Frig | D12: 1 | E12: 30000 | F12: =D12*E12 -> 30000 | G12: 2
B13: Transport | C13: Autoturism | D13: 1 | E13: 17000 | F13: =D13*E13 -> 17000 | G13: 2
C14: SUBTOTAL w/o VAT | F14: =SUM(G14:BN14) -> 539499.18 | G14: =SUMPRODUCT($E4:$E13,G4:G13) -> 269237.64 | H14: =SUMPRODUCT($E4:$E13,H4:H13) -> 101613.86 | I14: =SUMPRODUCT($E4:$E13,I4:I13) -> 56215.895 | J14: =SUMPRODUCT($E4:$E13,J4:J13) -> 56215.895 | K14: =SUMPRODUCT($E4:$E13,K4:K13) -> 28107.948 | L14: =SUMPRODUCT($E4:$E13,L4:L13) -> 28107.948 | M14: =SUMPRODUCT($E4:$E13,M4:M13) -> 0 | N14: =SUMPRODUCT($E4:$E13,N4:N13) -> 0 | ... BN14: =SUMPRODUCT($E4:$E13,BN4:BN13) -> 0
C16: Propery tax base (buildings) | E16: =SUM(F4:F5) -> 367101.22

Sheet Sales
B1: General sale | F1: FY1 | J1: FY2 | N1: FY3 | R1: FY4 | V1: FY5 | Z1: FY6 | AD1: FY7 | AH1: FY8 | AL1: FY9 | AP1: FY10 | AT1: FY11 | AX1: FY12 | BB1: FY13 | BF1: FY14 | BJ1: FY15
